{"text_format":"1","workbook":"xlsx","n_sheets":1,"sheets":["Sheet1"],"not_rendered":{"charts":0,"images":0,"macros":1,"external_links":0,"defined_names":0,"comments":0,"pivot_tables":0},"unopened":[],"bounds":{"document_bytes":16777216,"sheet_cells":100000,"rows_first":2000,"rows_last":500,"rows_between":2000,"halvings":0,"cell_chars":16384,"cell_head_chars":4096},"cells_cut":0,"cells_raw":0,"read":"whole","date_system":"1900"}

{"sheet":"Sheet1","index":0,"n_rows":93,"n_cols":28,"rows_kept":93,"cut":false,"hidden":false,"merged":[[1,26,2,26],[1,27,2,27],[1,24,3,24]]}
[null,"Kinross Road Runners 2017 Club Championship"]
[null,null,null,null,"Alloa Half","Alloa Half","Tay Ten","Tay Ten","Kinross PTA 10k","Perth Parkrun","Perth Parkrun","Glenrothes 10k","BrigBash 5m","BrigBash 5m","Kn'khill 3.9M","Kn'hill 3.9M","Perthshire Half Marathon","Perthshire Half Marathon","East Neuk 10k","Kirkcaldy Parkrun","Kirkcaldy Parkrun","Lochore 10k","Templeton Ten","Templeton Ten","Number of Races","Average Time","No. Races  for ranking","Best 5 Average Time"]
[null,null,null,null,"Actual","10k Equiv","Actual","10k Equiv","10k Equiv","Actual","10k Equiv","10k Equiv","Actual","10k Equiv","Actual","10k Equiv","Actual","10k Equiv","10k Equiv","Actual","10k Equiv","10k Equiv","Actual","10k Equiv"]
[null,"Surname","First",null,"hh:mm:ss","hh:mm:ss","hh:mm:ss","hh:mm:ss","hh:mm:ss","hh:mm:ss","hh:mm:ss","hh:mm:ss","hh:mm:ss","hh:mm:ss","hh:mm:ss","hh:mm:ss","hh:mm:ss","hh:mm:ss","hh:mm:ss","hh:mm:ss","hh:mm:ss","hh:mm:ss","hh:mm:ss","hh:mm:ss",null,"hh:mm:ss",null,"hh:mm:ss"]
[null,"Test","Test",null,1.1574074074074073E-5,{"$f":"(E5*86400)*POWER((6.2138818/13.1094),1.07)/86400","v":5.2068017535773476E-6},1.1574074074074073E-5,{"$f":"(G5*86400)*POWER((6.2138818/10),1.07)/86400","v":6.9564017320636968E-6},1.1574074074074073E-5,1.1574074074074073E-5,{"$f":"(J5*86400)*POWER((10/5),1.07)/86400","v":2.4298997306089522E-5},1.1574074074074073E-5,1.1574074074074073E-5,{"$f":"(M5*86400)*POWER((6.2138818/5),1.07)/86400","v":1.4604501912263331E-5},1.1574074074074073E-5,{"$f":"(O5*86400)*POWER((6.2138818/3.9),1.07)/86400","v":1.9052217248335972E-5},1.3888888888888888E-2,{"$f":"(Q5*86400)*POWER((6.2138818/13.1094),1.07)/86400","v":6.2481621042928173E-3},1.1574074074074073E-5,1.1574074074074073E-5,{"$f":"(T5*86400)*POWER((10/5),1.07)/86400","v":2.4298997306089522E-5},1.1574074074074073E-5,1.1574074074074073E-5,{"$f":"(W5*86400)*POWER((6.2138818/10),1.07)/86400","v":6.9564017320636968E-6},{"$f":"COUNT(F5,H5,I5,K5:L5,N5,P5,R5,S5,U5,V5,X5)","v":12},{"$f":"IFERROR(AVERAGE(F5,H5,I5,K5:L5,N5,P5,R5,S5,U5,V5,X5),\"No race run\")","v":5.3298605996496642E-4},{"$f":"IF(COUNT(F5,H5,I5,K5:L5,N5,P5,R5,#REF!,U5)>5,5,COUNT(F5,H5,I5,K5:L5,N5,P5,R5,#REF!,U5))","v":5},{"$f":"IFERROR(IF(Y5>5,AVERAGE(SMALL((F5,H5,I5,K5:L5,N5,P5,R5,S5,U5,V5,X5),{1,2,3,4,5})),Z5),\"No race run\")","v":8.453550673170578E-6}]
[null,"Scott","David","M",null,null,4.3379629629629629E-2,{"$f":"(G6*86400)*POWER((6.2138818/10),1.07)/86400","v":2.6072593691774736E-2},2.6412037037037036E-2,1.2395833333333335E-2,{"$f":"(J6*86400)*POWER((10/5),1.07)/86400","v":2.6024226114821882E-2},null,2.0254629629629629E-2,{"$f":"(M6*86400)*POWER((6.2138818/5),1.07)/86400","v":2.5557878346460831E-2},1.5486111111111112E-2,{"$f":"(O6*86400)*POWER((6.2138818/3.9),1.07)/86400","v":2.549186667827353E-2},null,null,null,null,null,null,null,null,{"$f":"COUNT(F6,H6,I6,K6:L6,N6,P6,R6,S6,U6,V6,X6)","v":5},{"$f":"IFERROR(AVERAGE(F6,H6,I6,K6:L6,N6,P6,R6,S6,U6,V6,X6),\"No race run\")","v":2.5911720373673602E-2},{"$f":"IF(COUNT(F6,H6,I6,K6:L6,N6,P6,R6,#REF!,U6)>5,5,COUNT(F6,H6,I6,K6:L6,N6,P6,R6,#REF!,U6))","v":5},{"$f":"IFERROR(IF(Y6>5,AVERAGE(SMALL((F6,H6,I6,K6:L6,N6,P6,R6,S6,U6,V6,X6),{1,2,3,4,5})),Z6),\"No race run\")","v":2.5911720373673602E-2}]
[null,"Kemp","Allan","M",null,null,null,null,2.6851851851851849E-2,1.2372685185185186E-2,{"$f":"(J7*86400)*POWER((10/5),1.07)/86400","v":2.5975628120209697E-2},2.6122685185185183E-2,null,null,1.5428240740740741E-2,{"$f":"(O7*86400)*POWER((6.2138818/3.9),1.07)/86400","v":2.5396605592031853E-2},null,null,null,null,null,null,null,null,{"$f":"COUNT(F7,H7,I7,K7:L7,N7,P7,R7,S7,U7,V7,X7)","v":4},{"$f":"IFERROR(AVERAGE(F7,H7,I7,K7:L7,N7,P7,R7,S7,U7,V7,X7),\"No race run\")","v":2.6086692687319647E-2},{"$f":"IF(COUNT(F7,H7,I7,K7:L7,N7,P7,R7,#REF!,U7)>5,5,COUNT(F7,H7,I7,K7:L7,N7,P7,R7,#REF!,U7))","v":4},{"$f":"IFERROR(IF(Y7>5,AVERAGE(SMALL((F7,H7,I7,K7:L7,N7,P7,R7,S7,U7,V7,X7),{1,2,3,4,5})),Z7),\"No race run\")","v":2.6086692687319647E-2}]
[null,"Strachan","Scott","M",5.8206018518518511E-2,{"$f":"(E8*86400)*POWER((6.2138818/13.1094),1.07)/86400","v":2.6185006018740478E-2},4.6817129629629632E-2,{"$f":"(G8*86400)*POWER((6.2138818/10),1.07)/86400","v":2.8138645006197657E-2},null,1.2511574074074073E-2,{"$f":"(J8*86400)*POWER((10/5),1.07)/86400","v":2.6267216087882767E-2},2.6782407407407408E-2,null,null,1.5821759259259261E-2,{"$f":"(O8*86400)*POWER((6.2138818/3.9),1.07)/86400","v":2.6044380978475282E-2},null,null,null,null,null,null,null,null,{"$f":"COUNT(F8,H8,I8,K8:L8,N8,P8,R8,S8,U8,V8,X8)","v":5},{"$f":"IFERROR(AVERAGE(F8,H8,I8,K8:L8,N8,P8,R8,S8,U8,V8,X8),\"No race run\")","v":2.6683531099740719E-2},{"$f":"IF(COUNT(F8,H8,I8,K8:L8,N8,P8,R8,#REF!,U8)>5,5,COUNT(F8,H8,I8,K8:L8,N8,P8,R8,#REF!,U8))","v":5},{"$f":"IFERROR(IF(Y8>5,AVERAGE(SMALL((F8,H8,I8,K8:L8,N8,P8,R8,S8,U8,V8,X8),{1,2,3,4,5})),Z8),\"No race run\")","v":2.6683531099740719E-2}]
[null,"Johns","Andy","M",6.0949074074074072E-2,{"$f":"(E9*86400)*POWER((6.2138818/13.1094),1.07)/86400","v":2.741901803433831E-2},4.6608796296296294E-2,{"$f":"(G9*86400)*POWER((6.2138818/10),1.07)/86400","v":2.8013429775020509E-2},null,null,null,null,2.1898148148148149E-2,{"$f":"(M9*86400)*POWER((6.2138818/5),1.07)/86400","v":2.7631717618002222E-2},null,null,null,null,null,null,null,null,null,null,{"$f":"COUNT(F9,H9,I9,K9:L9,N9,P9,R9,S9,U9,V9,X9)","v":3},{"$f":"IFERROR(AVERAGE(F9,H9,I9,K9:L9,N9,P9,R9,S9,U9,V9,X9),\"No race run\")","v":2.768805514245368E-2},{"$f":"IF(COUNT(F9,H9,I9,K9:L9,N9,P9,R9,#REF!,U9)>5,5,COUNT(F9,H9,I9,K9:L9,N9,P9,R9,#REF!,U9))","v":3},{"$f":"IFERROR(IF(Y9>5,AVERAGE(SMALL((F9,H9,I9,K9:L9,N9,P9,R9,S9,U9,V9,X9),{1,2,3,4,5})),Z9),\"No race run\")","v":2.768805514245368E-2}]
[null,"Newton","Matt","M",null,null,null,null,2.8229166666666666E-2,1.3206018518518518E-2,{"$f":"(J10*86400)*POWER((10/5),1.07)/86400","v":2.7725155926248145E-2},2.8437500000000001E-2,2.1435185185185186E-2,{"$f":"(M10*86400)*POWER((6.2138818/5),1.07)/86400","v":2.704753754151169E-2},1.6423611111111111E-2,{"$f":"(O10*86400)*POWER((6.2138818/3.9),1.07)/86400","v":2.7035096275388745E-2},null,null,null,null,null,null,null,null,{"$f":"COUNT(F10,H10,I10,K10:L10,N10,P10,R10,S10,U10,V10,X10)","v":5},{"$f":"IFERROR(AVERAGE(F10,H10,I10,K10:L10,N10,P10,R10,S10,U10,V10,X10),\"No race run\")","v":2.7694891281963053E-2},{"$f":"IF(COUNT(F10,H10,I10,K10:L10,N10,P10,R10,#REF!,U10)>5,5,COUNT(F10,H10,I10,K10:L10,N10,P10,R10,#REF!,U10))","v":5},{"$f":"IFERROR(IF(Y10>5,AVERAGE(SMALL((F10,H10,I10,K10:L10,N10,P10,R10,S10,U10,V10,X10),{1,2,3,4,5})),Z10),\"No race run\")","v":2.7694891281963053E-2}]
[null,"Webster","Billy","M",6.324074074074075E-2,{"$f":"(E11*86400)*POWER((6.2138818/13.1094),1.07)/86400","v":2.8449964781546627E-2},4.731481481481481E-2,{"$f":"(G11*86400)*POWER((6.2138818/10),1.07)/86400","v":2.8437770280676389E-2},null,1.3449074074074073E-2,{"$f":"(J11*86400)*POWER((10/5),1.07)/86400","v":2.8235434869676026E-2},2.900462962962963E-2,2.2569444444444444E-2,{"$f":"(M11*86400)*POWER((6.2138818/5),1.07)/86400","v":2.8478778728913495E-2},1.681712962962963E-2,{"$f":"(O11*86400)*POWER((6.2138818/3.9),1.07)/86400","v":2.768287166183217E-2},null,null,null,null,null,null,null,null,{"$f":"COUNT(F11,H11,I11,K11:L11,N11,P11,R11,S11,U11,V11,X11)","v":6},{"$f":"IFERROR(AVERAGE(F11,H11,I11,K11:L11,N11,P11,R11,S11,U11,V11,X11),\"No race run\")","v":2.838157499204572E-2},{"$f":"IF(COUNT(F11,H11,I11,K11:L11,N11,P11,R11,#REF!,U11)>5,5,COUNT(F11,H11,I11,K11:L11,N11,P11,R11,#REF!,U11))","v":5},{"$f":"IFERROR(IF(Y11>5,AVERAGE(SMALL((F11,H11,I11,K11:L11,N11,P11,R11,S11,U11,V11,X11),{1,2,3,4,5})),Z11),\"No race run\")","v":2.8256964064528944E-2}]
[null,"Beveridge","John","M",6.295138888888889E-2,{"$f":"(E12*86400)*POWER((6.2138818/13.1094),1.07)/86400","v":2.8319794737707193E-2},null,null,null,1.4004629629629631E-2,{"$f":"(J12*86400)*POWER((10/5),1.07)/86400","v":2.9401786740368321E-2},2.8287037037037038E-2,2.225694444444444E-2,{"$f":"(M12*86400)*POWER((6.2138818/5),1.07)/86400","v":2.808445717728238E-2},1.6701388888888887E-2,{"$f":"(O12*86400)*POWER((6.2138818/3.9),1.07)/86400","v":2.7492349489348807E-2},null,null,null,null,null,null,null,null,{"$f":"COUNT(F12,H12,I12,K12:L12,N12,P12,R12,S12,U12,V12,X12)","v":5},{"$f":"IFERROR(AVERAGE(F12,H12,I12,K12:L12,N12,P12,R12,S12,U12,V12,X12),\"No race run\")","v":2.8317085036348749E-2},{"$f":"IF(COUNT(F12,H12,I12,K12:L12,N12,P12,R12,#REF!,U12)>5,5,COUNT(F12,H12,I12,K12:L12,N12,P12,R12,#REF!,U12))","v":5},{"$f":"IFERROR(IF(Y12>5,AVERAGE(SMALL((F12,H12,I12,K12:L12,N12,P12,R12,S12,U12,V12,X12),{1,2,3,4,5})),Z12),\"No race run\")","v":2.8317085036348749E-2}]
[null,"Jones","Tim","M",null,null,null,null,null,1.3854166666666666E-2,{"$f":"(J13*86400)*POWER((10/5),1.07)/86400","v":2.9085899775389158E-2},2.8796296296296296E-2,2.2523148148148143E-2,{"$f":"(M13*86400)*POWER((6.2138818/5),1.07)/86400","v":2.8420360721264436E-2},1.7164351851851851E-2,{"$f":"(O13*86400)*POWER((6.2138818/3.9),1.07)/86400","v":2.8254438179282249E-2},null,null,null,null,null,null,null,null,{"$f":"COUNT(F13,H13,I13,K13:L13,N13,P13,R13,S13,U13,V13,X13)","v":4},{"$f":"IFERROR(AVERAGE(F13,H13,I13,K13:L13,N13,P13,R13,S13,U13,V13,X13),\"No race run\")","v":2.8639248743058034E-2},{"$f":"IF(COUNT(F13,H13,I13,K13:L13,N13,P13,R13,#REF!,U13)>5,5,COUNT(F13,H13,I13,K13:L13,N13,P13,R13,#REF!,U13))","v":4},{"$f":"IFERROR(IF(Y13>5,AVERAGE(SMALL((F13,H13,I13,K13:L13,N13,P13,R13,S13,U13,V13,X13),{1,2,3,4,5})),Z13),\"No race run\")","v":2.8639248743058034E-2}]
[null,"Hill","Martin","M",null,null,5.0138888888888893E-2,{"$f":"(G14*86400)*POWER((6.2138818/10),1.07)/86400","v":3.0135132303299939E-2},2.9131944444444446E-2,1.3634259259259257E-2,{"$f":"(J14*86400)*POWER((10/5),1.07)/86400","v":2.8624218826573452E-2},null,2.2824074074074076E-2,{"$f":"(M14*86400)*POWER((6.2138818/5),1.07)/86400","v":2.8800077770983288E-2},1.7430555555555557E-2,{"$f":"(O14*86400)*POWER((6.2138818/3.9),1.07)/86400","v":2.8692639175993975E-2},null,null,null,null,null,null,null,null,{"$f":"COUNT(F14,H14,I14,K14:L14,N14,P14,R14,S14,U14,V14,X14)","v":5},{"$f":"IFERROR(AVERAGE(F14,H14,I14,K14:L14,N14,P14,R14,S14,U14,V14,X14),\"No race run\")","v":2.9076802504259019E-2},{"$f":"IF(COUNT(F14,H14,I14,K14:L14,N14,P14,R14,#REF!,U14)>5,5,COUNT(F14,H14,I14,K14:L14,N14,P14,R14,#REF!,U14))","v":5},{"$f":"IFERROR(IF(Y14>5,AVERAGE(SMALL((F14,H14,I14,K14:L14,N14,P14,R14,S14,U14,V14,X14),{1,2,3,4,5})),Z14),\"No race run\")","v":2.9076802504259019E-2}]
[null,"Kemp","Graham","M",null,null,null,null,2.9490740740740744E-2,1.3692129629629629E-2,{"$f":"(J15*86400)*POWER((10/5),1.07)/86400","v":2.8745713813103906E-2},2.991898148148148E-2,2.2511574074074073E-2,{"$f":"(M15*86400)*POWER((6.2138818/5),1.07)/86400","v":2.8405756219352176E-2},null,null,null,null,null,null,null,null,null,null,{"$f":"COUNT(F15,H15,I15,K15:L15,N15,P15,R15,S15,U15,V15,X15)","v":4},{"$f":"IFERROR(AVERAGE(F15,H15,I15,K15:L15,N15,P15,R15,S15,U15,V15,X15),\"No race run\")","v":2.9140298063669579E-2},{"$f":"IF(COUNT(F15,H15,I15,K15:L15,N15,P15,R15,#REF!,U15)>5,5,COUNT(F15,H15,I15,K15:L15,N15,P15,R15,#REF!,U15))","v":4},{"$f":"IFERROR(IF(Y15>5,AVERAGE(SMALL((F15,H15,I15,K15:L15,N15,P15,R15,S15,U15,V15,X15),{1,2,3,4,5})),Z15),\"No race run\")","v":2.9140298063669579E-2}]
[null,"Gordon","Jillian","F",6.8472222222222226E-2,{"$f":"(E16*86400)*POWER((6.2138818/13.1094),1.07)/86400","v":3.0803439174163588E-2},5.0416666666666665E-2,{"$f":"(G16*86400)*POWER((6.2138818/10),1.07)/86400","v":3.0302085944869467E-2},3.005787037037037E-2,1.4224537037037037E-2,{"$f":"(J16*86400)*POWER((10/5),1.07)/86400","v":2.9863467689184024E-2},2.9363425925925921E-2,null,null,1.7743055555555557E-2,{"$f":"(O16*86400)*POWER((6.2138818/3.9),1.07)/86400","v":2.9207049041699053E-2},6.4178240740740744E-2,{"$f":"(Q16*86400)*POWER((6.2138818/13.1094),1.07)/86400","v":2.8871715723586391E-2},null,null,null,null,null,null,{"$f":"COUNT(F16,H16,I16,K16:L16,N16,P16,R16,S16,U16,V16,X16)","v":7},{"$f":"IFERROR(AVERAGE(F16,H16,I16,K16:L16,N16,P16,R16,S16,U16,V16,X16),\"No race run\")","v":2.9781293409971259E-2},{"$f":"IF(COUNT(F16,H16,I16,K16:L16,N16,P16,R16,#REF!,U16)>5,5,COUNT(F16,H16,I16,K16:L16,N16,P16,R16,#REF!,U16))","v":5},{"$f":"IFERROR(IF(Y16>5,AVERAGE(SMALL((F16,H16,I16,K16:L16,N16,P16,R16,S16,U16,V16,X16),{1,2,3,4,5})),Z16),\"No race run\")","v":2.947270575015315E-2}]
[null,"Freck","Sandy","M",null,null,5.0740740740740746E-2,{"$f":"(G17*86400)*POWER((6.2138818/10),1.07)/86400","v":3.0496865193367251E-2},2.960648148148148E-2,null,null,null,2.3055555555555555E-2,{"$f":"(M17*86400)*POWER((6.2138818/5),1.07)/86400","v":2.9092167809228554E-2},1.7476851851851851E-2,{"$f":"(O17*86400)*POWER((6.2138818/3.9),1.07)/86400","v":2.8768848044987319E-2},null,null,null,null,null,null,null,null,{"$f":"COUNT(F17,H17,I17,K17:L17,N17,P17,R17,S17,U17,V17,X17)","v":4},{"$f":"IFERROR(AVERAGE(F17,H17,I17,K17:L17,N17,P17,R17,S17,U17,V17,X17),\"No race run\")","v":2.949109063226615E-2},{"$f":"IF(COUNT(F17,H17,I17,K17:L17,N17,P17,R17,#REF!,U17)>5,5,COUNT(F17,H17,I17,K17:L17,N17,P17,R17,#REF!,U17))","v":4},{"$f":"IFERROR(IF(Y17>5,AVERAGE(SMALL((F17,H17,I17,K17:L17,N17,P17,R17,S17,U17,V17,X17),{1,2,3,4,5})),Z17),\"No race run\")","v":2.949109063226615E-2}]
[null,"Grant","Ian","M",6.5578703703703708E-2,{"$f":"(E18*86400)*POWER((6.2138818/13.1094),1.07)/86400","v":2.9501738735769251E-2},null,null,null,null,null,null,null,null,null,null,null,null,null,null,null,null,null,null,{"$f":"COUNT(F18,H18,I18,K18:L18,N18,P18,R18,S18,U18,V18,X18)","v":1},{"$f":"IFERROR(AVERAGE(F18,H18,I18,K18:L18,N18,P18,R18,S18,U18,V18,X18),\"No race run\")","v":2.9501738735769251E-2},{"$f":"IF(COUNT(F18,H18,I18,K18:L18,N18,P18,R18,#REF!,U18)>5,5,COUNT(F18,H18,I18,K18:L18,N18,P18,R18,#REF!,U18))","v":1},{"$f":"IFERROR(IF(Y18>5,AVERAGE(SMALL((F18,H18,I18,K18:L18,N18,P18,R18,S18,U18,V18,X18),{1,2,3,4,5})),Z18),\"No race run\")","v":2.9501738735769251E-2}]
[null,"Hutt","Sarah","F",null,null,5.078703703703704E-2,{"$f":"(G19*86400)*POWER((6.2138818/10),1.07)/86400","v":3.0524690800295504E-2},null,null,null,null,2.3391203703703702E-2,{"$f":"(M19*86400)*POWER((6.2138818/5),1.07)/86400","v":2.9515698364684189E-2},1.7835648148148149E-2,{"$f":"(O19*86400)*POWER((6.2138818/3.9),1.07)/86400","v":2.9359466779685737E-2},6.5578703703703708E-2,{"$f":"(Q19*86400)*POWER((6.2138818/13.1094),1.07)/86400","v":2.9501738735769251E-2},null,null,null,null,null,null,{"$f":"COUNT(F19,H19,I19,K19:L19,N19,P19,R19,S19,U19,V19,X19)","v":4},{"$f":"IFERROR(AVERAGE(F19,H19,I19,K19:L19,N19,P19,R19,S19,U19,V19,X19),\"No race run\")","v":2.972539867010867E-2},{"$f":"IF(COUNT(F19,H19,I19,K19:L19,N19,P19,R19,#REF!,U19)>5,5,COUNT(F19,H19,I19,K19:L19,N19,P19,R19,#REF!,U19))","v":4},{"$f":"IFERROR(IF(Y19>5,AVERAGE(SMALL((F19,H19,I19,K19:L19,N19,P19,R19,S19,U19,V19,X19),{1,2,3,4,5})),Z19),\"No race run\")","v":2.972539867010867E-2}]
[null,"Allcoat","Paul","M",6.5636574074074069E-2,{"$f":"(E20*86400)*POWER((6.2138818/13.1094),1.07)/86400","v":2.9527772744537138E-2},null,null,2.9212962962962965E-2,null,null,3.1145833333333334E-2,2.342592592592593E-2,{"$f":"(M20*86400)*POWER((6.2138818/5),1.07)/86400","v":2.9559511870420985E-2},1.7928240740740741E-2,{"$f":"(O20*86400)*POWER((6.2138818/3.9),1.07)/86400","v":2.9511884517672424E-2},null,null,null,null,null,null,null,null,{"$f":"COUNT(F20,H20,I20,K20:L20,N20,P20,R20,S20,U20,V20,X20)","v":5},{"$f":"IFERROR(AVERAGE(F20,H20,I20,K20:L20,N20,P20,R20,S20,U20,V20,X20),\"No race run\")","v":2.9791593085785367E-2},{"$f":"IF(COUNT(F20,H20,I20,K20:L20,N20,P20,R20,#REF!,U20)>5,5,COUNT(F20,H20,I20,K20:L20,N20,P20,R20,#REF!,U20))","v":5},{"$f":"IFERROR(IF(Y20>5,AVERAGE(SMALL((F20,H20,I20,K20:L20,N20,P20,R20,S20,U20,V20,X20),{1,2,3,4,5})),Z20),\"No race run\")","v":2.9791593085785367E-2}]
[null,"Jarron","Chester","M",null,null,null,null,2.9837962962962965E-2,null,null,null,null,null,null,null,null,null,null,null,null,null,null,null,{"$f":"COUNT(F21,H21,I21,K21:L21,N21,P21,R21,S21,U21,V21,X21)","v":1},{"$f":"IFERROR(AVERAGE(F21,H21,I21,K21:L21,N21,P21,R21,S21,U21,V21,X21),\"No race run\")","v":2.9837962962962965E-2},{"$f":"IF(COUNT(F21,H21,I21,K21:L21,N21,P21,R21,#REF!,U21)>5,5,COUNT(F21,H21,I21,K21:L21,N21,P21,R21,#REF!,U21))","v":1},{"$f":"IFERROR(IF(Y21>5,AVERAGE(SMALL((F21,H21,I21,K21:L21,N21,P21,R21,S21,U21,V21,X21),{1,2,3,4,5})),Z21),\"No race run\")","v":2.9837962962962965E-2}]
[null,"Nisbet","Stewart","M",6.5127314814814818E-2,{"$f":"(E22*86400)*POWER((6.2138818/13.1094),1.07)/86400","v":2.9298673467379733E-2},4.8379629629629627E-2,{"$f":"(G22*86400)*POWER((6.2138818/10),1.07)/86400","v":2.9077759240026254E-2},null,1.8368055555555554E-2,{"$f":"(J22*86400)*POWER((10/5),1.07)/86400","v":3.8562508724764064E-2},3.2662037037037038E-2,2.4849537037037035E-2,{"$f":"(M22*86400)*POWER((6.2138818/5),1.07)/86400","v":3.135586560562937E-2},1.8865740740740742E-2,{"$f":"(O22*86400)*POWER((6.2138818/3.9),1.07)/86400","v":3.1055114114787639E-2},7.1539351851851854E-2,{"$f":"(Q22*86400)*POWER((6.2138818/13.1094),1.07)/86400","v":3.2183241638861583E-2},null,null,null,null,null,null,{"$f":"COUNT(F22,H22,I22,K22:L22,N22,P22,R22,S22,U22,V22,X22)","v":7},{"$f":"IFERROR(AVERAGE(F22,H22,I22,K22:L22,N22,P22,R22,S22,U22,V22,X22),\"No race run\")","v":3.2027885689783667E-2},{"$f":"IF(COUNT(F22,H22,I22,K22:L22,N22,P22,R22,#REF!,U22)>5,5,COUNT(F22,H22,I22,K22:L22,N22,P22,R22,#REF!,U22))","v":5},{"$f":"IFERROR(IF(Y22>5,AVERAGE(SMALL((F22,H22,I22,K22:L22,N22,P22,R22,S22,U22,V22,X22),{1,2,3,4,5})),Z22),\"No race run\")","v":3.0594130813336912E-2}]
[null,"Sinclair","Ally","M",null,null,null,null,null,null,null,null,null,null,1.861111111111111E-2,{"$f":"(O23*86400)*POWER((6.2138818/3.9),1.07)/86400","v":3.0635965335324238E-2},null,null,null,null,null,null,null,null,{"$f":"COUNT(F23,H23,I23,K23:L23,N23,P23,R23,S23,U23,V23,X23)","v":1},{"$f":"IFERROR(AVERAGE(F23,H23,I23,K23:L23,N23,P23,R23,S23,U23,V23,X23),\"No race run\")","v":3.0635965335324238E-2},{"$f":"IF(COUNT(F23,H23,I23,K23:L23,N23,P23,R23,#REF!,U23)>5,5,COUNT(F23,H23,I23,K23:L23,N23,P23,R23,#REF!,U23))","v":1},{"$f":"IFERROR(IF(Y23>5,AVERAGE(SMALL((F23,H23,I23,K23:L23,N23,P23,R23,S23,U23,V23,X23),{1,2,3,4,5})),Z23),\"No race run\")","v":3.0635965335324238E-2}]
[null,"Gray","Kirsty","F",null,null,5.2534722222222219E-2,{"$f":"(G24*86400)*POWER((6.2138818/10),1.07)/86400","v":3.1575107461837122E-2},null,1.4340277777777776E-2,{"$f":"(J24*86400)*POWER((10/5),1.07)/86400","v":3.0106457662244911E-2},3.1053240740740742E-2,2.4699074074074078E-2,{"$f":"(M24*86400)*POWER((6.2138818/5),1.07)/86400","v":3.1166007080769956E-2},null,null,null,null,null,null,null,null,null,null,{"$f":"COUNT(F24,H24,I24,K24:L24,N24,P24,R24,S24,U24,V24,X24)","v":4},{"$f":"IFERROR(AVERAGE(F24,H24,I24,K24:L24,N24,P24,R24,S24,U24,V24,X24),\"No race run\")","v":3.0975203236398182E-2},{"$f":"IF(COUNT(F24,H24,I24,K24:L24,N24,P24,R24,#REF!,U24)>5,5,COUNT(F24,H24,I24,K24:L24,N24,P24,R24,#REF!,U24))","v":4},{"$f":"IFERROR(IF(Y24>5,AVERAGE(SMALL((F24,H24,I24,K24:L24,N24,P24,R24,S24,U24,V24,X24),{1,2,3,4,5})),Z24),\"No race run\")","v":3.0975203236398182E-2}]
[null,"Dobson","Judith","F",null,null,5.0717592592592592E-2,{"$f":"(G25*86400)*POWER((6.2138818/10),1.07)/86400","v":3.0482952389903121E-2},null,null,null,3.1469907407407412E-2,2.4872685185185189E-2,{"$f":"(M25*86400)*POWER((6.2138818/5),1.07)/86400","v":3.1385074609453903E-2},1.877314814814815E-2,{"$f":"(O25*86400)*POWER((6.2138818/3.9),1.07)/86400","v":3.0902696376800952E-2},null,null,null,null,null,null,null,null,{"$f":"COUNT(F25,H25,I25,K25:L25,N25,P25,R25,S25,U25,V25,X25)","v":4},{"$f":"IFERROR(AVERAGE(F25,H25,I25,K25:L25,N25,P25,R25,S25,U25,V25,X25),\"No race run\")","v":3.1060157695891349E-2},{"$f":"IF(COUNT(F25,H25,I25,K25:L25,N25,P25,R25,#REF!,U25)>5,5,COUNT(F25,H25,I25,K25:L25,N25,P25,R25,#REF!,U25))","v":4},{"$f":"IFERROR(IF(Y25>5,AVERAGE(SMALL((F25,H25,I25,K25:L25,N25,P25,R25,S25,U25,V25,X25),{1,2,3,4,5})),Z25),\"No race run\")","v":3.1060157695891349E-2}]
[null,"Nisbet","Fiona","F",7.1562499999999987E-2,{"$f":"(E26*86400)*POWER((6.2138818/13.1094),1.07)/86400","v":3.2193655242368738E-2},5.1458333333333328E-2,{"$f":"(G26*86400)*POWER((6.2138818/10),1.07)/86400","v":3.0928162100755194E-2},null,1.5057870370370369E-2,{"$f":"(J26*86400)*POWER((10/5),1.07)/86400","v":3.1612995495222465E-2},3.2939814814814811E-2,2.359953703703704E-2,{"$f":"(M26*86400)*POWER((6.2138818/5),1.07)/86400","v":2.9778579399104933E-2},null,null,null,null,null,null,null,null,null,null,{"$f":"COUNT(F26,H26,I26,K26:L26,N26,P26,R26,S26,U26,V26,X26)","v":5},{"$f":"IFERROR(AVERAGE(F26,H26,I26,K26:L26,N26,P26,R26,S26,U26,V26,X26),\"No race run\")","v":3.1490641410453227E-2},{"$f":"IF(COUNT(F26,H26,I26,K26:L26,N26,P26,R26,#REF!,U26)>5,5,COUNT(F26,H26,I26,K26:L26,N26,P26,R26,#REF!,U26))","v":5},{"$f":"IFERROR(IF(Y26>5,AVERAGE(SMALL((F26,H26,I26,K26:L26,N26,P26,R26,S26,U26,V26,X26),{1,2,3,4,5})),Z26),\"No race run\")","v":3.1490641410453227E-2}]
[null,"Blair","Steven","M",null,null,null,null,null,1.5486111111111112E-2,{"$f":"(J27*86400)*POWER((10/5),1.07)/86400","v":3.2512058395547778E-2},3.4178240740740738E-2,2.4143518518518519E-2,{"$f":"(M27*86400)*POWER((6.2138818/5),1.07)/86400","v":3.0464990988981311E-2},1.7754629629629631E-2,{"$f":"(O27*86400)*POWER((6.2138818/3.9),1.07)/86400","v":2.9226101258947385E-2},null,null,null,null,null,null,null,null,{"$f":"COUNT(F27,H27,I27,K27:L27,N27,P27,R27,S27,U27,V27,X27)","v":4},{"$f":"IFERROR(AVERAGE(F27,H27,I27,K27:L27,N27,P27,R27,S27,U27,V27,X27),\"No race run\")","v":3.1595347846054306E-2},{"$f":"IF(COUNT(F27,H27,I27,K27:L27,N27,P27,R27,#REF!,U27)>5,5,COUNT(F27,H27,I27,K27:L27,N27,P27,R27,#REF!,U27))","v":4},{"$f":"IFERROR(IF(Y27>5,AVERAGE(SMALL((F27,H27,I27,K27:L27,N27,P27,R27,S27,U27,V27,X27),{1,2,3,4,5})),Z27),\"No race run\")","v":3.1595347846054306E-2}]
[null,"Edgerton","Peter","M",null,null,null,null,null,null,null,3.2581018518518516E-2,2.5266203703703704E-2,{"$f":"(M28*86400)*POWER((6.2138818/5),1.07)/86400","v":3.188162767447085E-2},1.9317129629629629E-2,{"$f":"(O28*86400)*POWER((6.2138818/3.9),1.07)/86400","v":3.1798150587472741E-2},7.0196759259259264E-2,{"$f":"(Q28*86400)*POWER((6.2138818/13.1094),1.07)/86400","v":3.1579252635446607E-2},null,null,null,null,null,null,{"$f":"COUNT(F28,H28,I28,K28:L28,N28,P28,R28,S28,U28,V28,X28)","v":4},{"$f":"IFERROR(AVERAGE(F28,H28,I28,K28:L28,N28,P28,R28,S28,U28,V28,X28),\"No race run\")","v":3.1960012353977177E-2},{"$f":"IF(COUNT(F28,H28,I28,K28:L28,N28,P28,R28,#REF!,U28)>5,5,COUNT(F28,H28,I28,K28:L28,N28,P28,R28,#REF!,U28))","v":4},{"$f":"IFERROR(IF(Y28>5,AVERAGE(SMALL((F28,H28,I28,K28:L28,N28,P28,R28,S28,U28,V28,X28),{1,2,3,4,5})),Z28),\"No race run\")","v":3.1960012353977177E-2}]
[null,"Dobson","Ben","M",7.3668981481481488E-2,{"$f":"(E29*86400)*POWER((6.2138818/13.1094),1.07)/86400","v":3.3141293161519821E-2},5.3067129629629638E-2,{"$f":"(G29*86400)*POWER((6.2138818/10),1.07)/86400","v":3.1895101941512058E-2},null,1.4699074074074074E-2,{"$f":"(J29*86400)*POWER((10/5),1.07)/86400","v":3.0859726578733693E-2},null,null,null,null,null,null,null,null,null,null,null,null,null,{"$f":"COUNT(F29,H29,I29,K29:L29,N29,P29,R29,S29,U29,V29,X29)","v":3},{"$f":"IFERROR(AVERAGE(F29,H29,I29,K29:L29,N29,P29,R29,S29,U29,V29,X29),\"No race run\")","v":3.1965373893921858E-2},{"$f":"IF(COUNT(F29,H29,I29,K29:L29,N29,P29,R29,#REF!,U29)>5,5,COUNT(F29,H29,I29,K29:L29,N29,P29,R29,#REF!,U29))","v":3},{"$f":"IFERROR(IF(Y29>5,AVERAGE(SMALL((F29,H29,I29,K29:L29,N29,P29,R29,S29,U29,V29,X29),{1,2,3,4,5})),Z29),\"No race run\")","v":3.1965373893921858E-2}]
[null,"Kelly","Graeme","M",7.1238425925925927E-2,{"$f":"(E30*86400)*POWER((6.2138818/13.1094),1.07)/86400","v":3.2047864793268578E-2},null,null,null,null,null,null,null,null,null,null,null,null,null,null,null,null,null,null,{"$f":"COUNT(F30,H30,I30,K30:L30,N30,P30,R30,S30,U30,V30,X30)","v":1},{"$f":"IFERROR(AVERAGE(F30,H30,I30,K30:L30,N30,P30,R30,S30,U30,V30,X30),\"No race run\")","v":3.2047864793268578E-2},{"$f":"IF(COUNT(F30,H30,I30,K30:L30,N30,P30,R30,#REF!,U30)>5,5,COUNT(F30,H30,I30,K30:L30,N30,P30,R30,#REF!,U30))","v":1},{"$f":"IFERROR(IF(Y30>5,AVERAGE(SMALL((F30,H30,I30,K30:L30,N30,P30,R30,S30,U30,V30,X30),{1,2,3,4,5})),Z30),\"No race run\")","v":3.2047864793268578E-2}]
[null,"Pool","Richard","M",null,null,null,null,3.363425925925926E-2,null,null,null,null,null,2.0173611111111111E-2,{"$f":"(O31*86400)*POWER((6.2138818/3.9),1.07)/86400","v":3.3208014663849601E-2},null,null,null,null,null,null,null,null,{"$f":"COUNT(F31,H31,I31,K31:L31,N31,P31,R31,S31,U31,V31,X31)","v":2},{"$f":"IFERROR(AVERAGE(F31,H31,I31,K31:L31,N31,P31,R31,S31,U31,V31,X31),\"No race run\")","v":3.342113696155443E-2},{"$f":"IF(COUNT(F31,H31,I31,K31:L31,N31,P31,R31,#REF!,U31)>5,5,COUNT(F31,H31,I31,K31:L31,N31,P31,R31,#REF!,U31))","v":2},{"$f":"IFERROR(IF(Y31>5,AVERAGE(SMALL((F31,H31,I31,K31:L31,N31,P31,R31,S31,U31,V31,X31),{1,2,3,4,5})),Z31),\"No race run\")","v":3.342113696155443E-2}]
[null,"Reith","Kevin","M",7.4965277777777783E-2,{"$f":"(E32*86400)*POWER((6.2138818/13.1094),1.07)/86400","v":3.3724454957920487E-2},null,null,null,null,null,null,null,null,2.0231481481481482E-2,{"$f":"(O32*86400)*POWER((6.2138818/3.9),1.07)/86400","v":3.3303275750091281E-2},null,null,null,null,null,null,null,null,{"$f":"COUNT(F32,H32,I32,K32:L32,N32,P32,R32,S32,U32,V32,X32)","v":2},{"$f":"IFERROR(AVERAGE(F32,H32,I32,K32:L32,N32,P32,R32,S32,U32,V32,X32),\"No race run\")","v":3.3513865354005884E-2},{"$f":"IF(COUNT(F32,H32,I32,K32:L32,N32,P32,R32,#REF!,U32)>5,5,COUNT(F32,H32,I32,K32:L32,N32,P32,R32,#REF!,U32))","v":2},{"$f":"IFERROR(IF(Y32>5,AVERAGE(SMALL((F32,H32,I32,K32:L32,N32,P32,R32,S32,U32,V32,X32),{1,2,3,4,5})),Z32),\"No race run\")","v":3.3513865354005884E-2}]
[null,"Coutts","Pippa","F",null,null,null,null,3.3587962962962965E-2,null,null,null,null,null,null,null,null,null,null,null,null,null,null,null,{"$f":"COUNT(F33,H33,I33,K33:L33,N33,P33,R33,S33,U33,V33,X33)","v":1},{"$f":"IFERROR(AVERAGE(F33,H33,I33,K33:L33,N33,P33,R33,S33,U33,V33,X33),\"No race run\")","v":3.3587962962962965E-2},{"$f":"IF(COUNT(F33,H33,I33,K33:L33,N33,P33,R33,#REF!,U33)>5,5,COUNT(F33,H33,I33,K33:L33,N33,P33,R33,#REF!,U33))","v":1},{"$f":"IFERROR(IF(Y33>5,AVERAGE(SMALL((F33,H33,I33,K33:L33,N33,P33,R33,S33,U33,V33,X33),{1,2,3,4,5})),Z33),\"No race run\")","v":3.3587962962962965E-2}]
[null,"Reilly","Jim","M",null,null,null,null,null,1.5810185185185184E-2,{"$f":"(J34*86400)*POWER((10/5),1.07)/86400","v":3.3192430320118288E-2},3.5300925925925923E-2,2.5601851851851851E-2,{"$f":"(M34*86400)*POWER((6.2138818/5),1.07)/86400","v":3.2305158229926488E-2},null,null,null,null,null,null,null,null,null,null,{"$f":"COUNT(F34,H34,I34,K34:L34,N34,P34,R34,S34,U34,V34,X34)","v":3},{"$f":"IFERROR(AVERAGE(F34,H34,I34,K34:L34,N34,P34,R34,S34,U34,V34,X34),\"No race run\")","v":3.3599504825323569E-2},{"$f":"IF(COUNT(F34,H34,I34,K34:L34,N34,P34,R34,#REF!,U34)>5,5,COUNT(F34,H34,I34,K34:L34,N34,P34,R34,#REF!,U34))","v":3},{"$f":"IFERROR(IF(Y34>5,AVERAGE(SMALL((F34,H34,I34,K34:L34,N34,P34,R34,S34,U34,V34,X34),{1,2,3,4,5})),Z34),\"No race run\")","v":3.3599504825323569E-2}]
[null,"Muncey","Laura","F",7.6956018518518521E-2,{"$f":"(E35*86400)*POWER((6.2138818/13.1094),1.07)/86400","v":3.4620024859535782E-2},5.6122685185185185E-2,{"$f":"(G35*86400)*POWER((6.2138818/10),1.07)/86400","v":3.3731591998776872E-2},null,null,null,null,2.6238425925925925E-2,{"$f":"(M35*86400)*POWER((6.2138818/5),1.07)/86400","v":3.3108405835100968E-2},null,null,7.4918981481481475E-2,{"$f":"(Q35*86400)*POWER((6.2138818/13.1094),1.07)/86400","v":3.3703627750906164E-2},null,null,null,null,null,null,{"$f":"COUNT(F35,H35,I35,K35:L35,N35,P35,R35,S35,U35,V35,X35)","v":4},{"$f":"IFERROR(AVERAGE(F35,H35,I35,K35:L35,N35,P35,R35,S35,U35,V35,X35),\"No race run\")","v":3.3790912611079943E-2},{"$f":"IF(COUNT(F35,H35,I35,K35:L35,N35,P35,R35,#REF!,U35)>5,5,COUNT(F35,H35,I35,K35:L35,N35,P35,R35,#REF!,U35))","v":4},{"$f":"IFERROR(IF(Y35>5,AVERAGE(SMALL((F35,H35,I35,K35:L35,N35,P35,R35,S35,U35,V35,X35),{1,2,3,4,5})),Z35),\"No race run\")","v":3.3790912611079943E-2}]
[null,"McBride","Katy","F",7.8194444444444441E-2,{"$f":"(E36*86400)*POWER((6.2138818/13.1094),1.07)/86400","v":3.5177152647168558E-2},null,null,3.3530092592592591E-2,1.6053240740740739E-2,{"$f":"(J36*86400)*POWER((10/5),1.07)/86400","v":3.3702709263546168E-2},null,null,null,null,null,null,null,null,null,null,null,null,null,{"$f":"COUNT(F36,H36,I36,K36:L36,N36,P36,R36,S36,U36,V36,X36)","v":3},{"$f":"IFERROR(AVERAGE(F36,H36,I36,K36:L36,N36,P36,R36,S36,U36,V36,X36),\"No race run\")","v":3.4136651501102441E-2},{"$f":"IF(COUNT(F36,H36,I36,K36:L36,N36,P36,R36,#REF!,U36)>5,5,COUNT(F36,H36,I36,K36:L36,N36,P36,R36,#REF!,U36))","v":3},{"$f":"IFERROR(IF(Y36>5,AVERAGE(SMALL((F36,H36,I36,K36:L36,N36,P36,R36,S36,U36,V36,X36),{1,2,3,4,5})),Z36),\"No race run\")","v":3.4136651501102441E-2}]
[null,"Baughan","Paul","M",null,null,null,null,3.4560185185185187E-2,null,null,null,null,null,null,null,null,null,null,null,null,null,null,null,{"$f":"COUNT(F37,H37,I37,K37:L37,N37,P37,R37,S37,U37,V37,X37)","v":1},{"$f":"IFERROR(AVERAGE(F37,H37,I37,K37:L37,N37,P37,R37,S37,U37,V37,X37),\"No race run\")","v":3.4560185185185187E-2},{"$f":"IF(COUNT(F37,H37,I37,K37:L37,N37,P37,R37,#REF!,U37)>5,5,COUNT(F37,H37,I37,K37:L37,N37,P37,R37,#REF!,U37))","v":1},{"$f":"IFERROR(IF(Y37>5,AVERAGE(SMALL((F37,H37,I37,K37:L37,N37,P37,R37,S37,U37,V37,X37),{1,2,3,4,5})),Z37),\"No race run\")","v":3.4560185185185187E-2}]
[null,"Dobson","Stuart","M",null,null,5.7847222222222223E-2,{"$f":"(G38*86400)*POWER((6.2138818/10),1.07)/86400","v":3.4768095856854357E-2},null,null,null,3.5243055555555555E-2,2.7673611111111111E-2,{"$f":"(M38*86400)*POWER((6.2138818/5),1.07)/86400","v":3.4919364072221626E-2},2.0844907407407406E-2,{"$f":"(O38*86400)*POWER((6.2138818/3.9),1.07)/86400","v":3.4313043264253086E-2},null,null,null,null,null,null,null,null,{"$f":"COUNT(F38,H38,I38,K38:L38,N38,P38,R38,S38,U38,V38,X38)","v":4},{"$f":"IFERROR(AVERAGE(F38,H38,I38,K38:L38,N38,P38,R38,S38,U38,V38,X38),\"No race run\")","v":3.4810889687221153E-2},{"$f":"IF(COUNT(F38,H38,I38,K38:L38,N38,P38,R38,#REF!,U38)>5,5,COUNT(F38,H38,I38,K38:L38,N38,P38,R38,#REF!,U38))","v":4},{"$f":"IFERROR(IF(Y38>5,AVERAGE(SMALL((F38,H38,I38,K38:L38,N38,P38,R38,S38,U38,V38,X38),{1,2,3,4,5})),Z38),\"No race run\")","v":3.4810889687221153E-2}]
[null,"Gray","Duncan","M",null,null,6.1620370370370374E-2,{"$f":"(G39*86400)*POWER((6.2138818/10),1.07)/86400","v":3.7035882821507125E-2},3.5104166666666665E-2,1.6875000000000001E-2,{"$f":"(J39*86400)*POWER((10/5),1.07)/86400","v":3.5427938072278523E-2},3.5208333333333335E-2,null,null,2.0324074074074074E-2,{"$f":"(O39*86400)*POWER((6.2138818/3.9),1.07)/86400","v":3.3455693488077969E-2},null,null,null,null,null,null,null,null,{"$f":"COUNT(F39,H39,I39,K39:L39,N39,P39,R39,S39,U39,V39,X39)","v":5},{"$f":"IFERROR(AVERAGE(F39,H39,I39,K39:L39,N39,P39,R39,S39,U39,V39,X39),\"No race run\")","v":3.5246402876372721E-2},{"$f":"IF(COUNT(F39,H39,I39,K39:L39,N39,P39,R39,#REF!,U39)>5,5,COUNT(F39,H39,I39,K39:L39,N39,P39,R39,#REF!,U39))","v":5},{"$f":"IFERROR(IF(Y39>5,AVERAGE(SMALL((F39,H39,I39,K39:L39,N39,P39,R39,S39,U39,V39,X39),{1,2,3,4,5})),Z39),\"No race run\")","v":3.5246402876372721E-2}]
[null,"Wilson","Anne","F",null,null,null,null,3.5266203703703702E-2,null,null,null,null,null,2.1504629629629627E-2,{"$f":"(O40*86400)*POWER((6.2138818/3.9),1.07)/86400","v":3.5399019647408235E-2},null,null,null,null,null,null,null,null,{"$f":"COUNT(F40,H40,I40,K40:L40,N40,P40,R40,S40,U40,V40,X40)","v":2},{"$f":"IFERROR(AVERAGE(F40,H40,I40,K40:L40,N40,P40,R40,S40,U40,V40,X40),\"No race run\")","v":3.5332611675555972E-2},{"$f":"IF(COUNT(F40,H40,I40,K40:L40,N40,P40,R40,#REF!,U40)>5,5,COUNT(F40,H40,I40,K40:L40,N40,P40,R40,#REF!,U40))","v":2},{"$f":"IFERROR(IF(Y40>5,AVERAGE(SMALL((F40,H40,I40,K40:L40,N40,P40,R40,S40,U40,V40,X40),{1,2,3,4,5})),Z40),\"No race run\")","v":3.5332611675555972E-2}]
[null,"Bilton","Geoff","M",null,null,null,null,3.6006944444444446E-2,1.6909722222222225E-2,{"$f":"(J41*86400)*POWER((10/5),1.07)/86400","v":3.5500835064196802E-2},null,null,null,2.1736111111111112E-2,{"$f":"(O41*86400)*POWER((6.2138818/3.9),1.07)/86400","v":3.5780063992374961E-2},null,null,null,null,null,null,null,null,{"$f":"COUNT(F41,H41,I41,K41:L41,N41,P41,R41,S41,U41,V41,X41)","v":3},{"$f":"IFERROR(AVERAGE(F41,H41,I41,K41:L41,N41,P41,R41,S41,U41,V41,X41),\"No race run\")","v":3.5762614500338734E-2},{"$f":"IF(COUNT(F41,H41,I41,K41:L41,N41,P41,R41,#REF!,U41)>5,5,COUNT(F41,H41,I41,K41:L41,N41,P41,R41,#REF!,U41))","v":3},{"$f":"IFERROR(IF(Y41>5,AVERAGE(SMALL((F41,H41,I41,K41:L41,N41,P41,R41,S41,U41,V41,X41),{1,2,3,4,5})),Z41),\"No race run\")","v":3.5762614500338734E-2}]
[null,"Beveridge","Lynn","F",8.3194444444444446E-2,{"$f":"(E42*86400)*POWER((6.2138818/13.1094),1.07)/86400","v":3.7426491004713971E-2},null,null,3.5995370370370372E-2,1.7233796296296296E-2,{"$f":"(J42*86400)*POWER((10/5),1.07)/86400","v":3.6181206988767298E-2},3.7800925925925925E-2,2.7939814814814817E-2,{"$f":"(M42*86400)*POWER((6.2138818/5),1.07)/86400","v":3.5255267616203678E-2},2.1701388888888892E-2,{"$f":"(O42*86400)*POWER((6.2138818/3.9),1.07)/86400","v":3.572290734062996E-2},null,null,null,null,null,null,null,null,{"$f":"COUNT(F42,H42,I42,K42:L42,N42,P42,R42,S42,U42,V42,X42)","v":6},{"$f":"IFERROR(AVERAGE(F42,H42,I42,K42:L42,N42,P42,R42,S42,U42,V42,X42),\"No race run\")","v":3.6397028207768536E-2},{"$f":"IF(COUNT(F42,H42,I42,K42:L42,N42,P42,R42,#REF!,U42)>5,5,COUNT(F42,H42,I42,K42:L42,N42,P42,R42,#REF!,U42))","v":5},{"$f":"IFERROR(IF(Y42>5,AVERAGE(SMALL((F42,H42,I42,K42:L42,N42,P42,R42,S42,U42,V42,X42),{1,2,3,4,5})),Z42),\"No race run\")","v":3.6116248664137054E-2}]
[null,"Hunter","Neil","M",null,null,null,null,3.6331018518518519E-2,null,null,null,2.8530092592592593E-2,{"$f":"(M43*86400)*POWER((6.2138818/5),1.07)/86400","v":3.6000097213729113E-2},null,null,null,null,null,null,null,null,null,null,{"$f":"COUNT(F43,H43,I43,K43:L43,N43,P43,R43,S43,U43,V43,X43)","v":2},{"$f":"IFERROR(AVERAGE(F43,H43,I43,K43:L43,N43,P43,R43,S43,U43,V43,X43),\"No race run\")","v":3.6165557866123813E-2},{"$f":"IF(COUNT(F43,H43,I43,K43:L43,N43,P43,R43,#REF!,U43)>5,5,COUNT(F43,H43,I43,K43:L43,N43,P43,R43,#REF!,U43))","v":2},{"$f":"IFERROR(IF(Y43>5,AVERAGE(SMALL((F43,H43,I43,K43:L43,N43,P43,R43,S43,U43,V43,X43),{1,2,3,4,5})),Z43),\"No race run\")","v":3.6165557866123813E-2}]
[null,"Findlay","Valerie","F",null,null,6.1875000000000006E-2,{"$f":"(G44*86400)*POWER((6.2138818/10),1.07)/86400","v":3.718892365961253E-2},3.5914351851851857E-2,1.726851851851852E-2,{"$f":"(J44*86400)*POWER((10/5),1.07)/86400","v":3.625410398068557E-2},null,2.8171296296296302E-2,{"$f":"(M44*86400)*POWER((6.2138818/5),1.07)/86400","v":3.5547357654448955E-2},null,null,null,null,null,null,null,null,null,null,{"$f":"COUNT(F44,H44,I44,K44:L44,N44,P44,R44,S44,U44,V44,X44)","v":4},{"$f":"IFERROR(AVERAGE(F44,H44,I44,K44:L44,N44,P44,R44,S44,U44,V44,X44),\"No race run\")","v":3.6226184286649726E-2},{"$f":"IF(COUNT(F44,H44,I44,K44:L44,N44,P44,R44,#REF!,U44)>5,5,COUNT(F44,H44,I44,K44:L44,N44,P44,R44,#REF!,U44))","v":4},{"$f":"IFERROR(IF(Y44>5,AVERAGE(SMALL((F44,H44,I44,K44:L44,N44,P44,R44,S44,U44,V44,X44),{1,2,3,4,5})),Z44),\"No race run\")","v":3.6226184286649726E-2}]
[null,"Grieve","Wendy","F",8.144675925925926E-2,{"$f":"(E45*86400)*POWER((6.2138818/13.1094),1.07)/86400","v":3.6640263939923791E-2},6.0347222222222219E-2,{"$f":"(G45*86400)*POWER((6.2138818/10),1.07)/86400","v":3.6270678630980116E-2},null,null,null,null,null,null,null,null,null,null,null,null,null,null,null,null,{"$f":"COUNT(F45,H45,I45,K45:L45,N45,P45,R45,S45,U45,V45,X45)","v":2},{"$f":"IFERROR(AVERAGE(F45,H45,I45,K45:L45,N45,P45,R45,S45,U45,V45,X45),\"No race run\")","v":3.6455471285451957E-2},{"$f":"IF(COUNT(F45,H45,I45,K45:L45,N45,P45,R45,#REF!,U45)>5,5,COUNT(F45,H45,I45,K45:L45,N45,P45,R45,#REF!,U45))","v":2},{"$f":"IFERROR(IF(Y45>5,AVERAGE(SMALL((F45,H45,I45,K45:L45,N45,P45,R45,S45,U45,V45,X45),{1,2,3,4,5})),Z45),\"No race run\")","v":3.6455471285451957E-2}]
[null,"Verdot","Leigh","F",8.1759259259259254E-2,{"$f":"(E46*86400)*POWER((6.2138818/13.1094),1.07)/86400","v":3.6780847587270377E-2},6.010416666666666E-2,{"$f":"(G46*86400)*POWER((6.2138818/10),1.07)/86400","v":3.6124594194606771E-2},3.5636574074074077E-2,null,null,3.8425925925925926E-2,null,null,2.1585648148148145E-2,{"$f":"(O46*86400)*POWER((6.2138818/3.9),1.07)/86400","v":3.5532385168146587E-2},8.6053240740740736E-2,{"$f":"(Q46*86400)*POWER((6.2138818/13.1094),1.07)/86400","v":3.871257103784758E-2},null,null,null,null,null,null,{"$f":"COUNT(F46,H46,I46,K46:L46,N46,P46,R46,S46,U46,V46,X46)","v":6},{"$f":"IFERROR(AVERAGE(F46,H46,I46,K46:L46,N46,P46,R46,S46,U46,V46,X46),\"No race run\")","v":3.6868816331311886E-2},{"$f":"IF(COUNT(F46,H46,I46,K46:L46,N46,P46,R46,#REF!,U46)>5,5,COUNT(F46,H46,I46,K46:L46,N46,P46,R46,#REF!,U46))","v":5},{"$f":"IFERROR(IF(Y46>5,AVERAGE(SMALL((F46,H46,I46,K46:L46,N46,P46,R46,S46,U46,V46,X46),{1,2,3,4,5})),Z46),\"No race run\")","v":3.6500065390004742E-2}]
[null,"Blyth","Scott","M",null,null,null,null,null,null,null,3.7002314814814814E-2,null,null,2.210648148148148E-2,{"$f":"(O47*86400)*POWER((6.2138818/3.9),1.07)/86400","v":3.6389734944321711E-2},null,null,null,null,null,null,null,null,{"$f":"COUNT(F47,H47,I47,K47:L47,N47,P47,R47,S47,U47,V47,X47)","v":2},{"$f":"IFERROR(AVERAGE(F47,H47,I47,K47:L47,N47,P47,R47,S47,U47,V47,X47),\"No race run\")","v":3.6696024879568259E-2},{"$f":"IF(COUNT(F47,H47,I47,K47:L47,N47,P47,R47,#REF!,U47)>5,5,COUNT(F47,H47,I47,K47:L47,N47,P47,R47,#REF!,U47))","v":2},{"$f":"IFERROR(IF(Y47>5,AVERAGE(SMALL((F47,H47,I47,K47:L47,N47,P47,R47,S47,U47,V47,X47),{1,2,3,4,5})),Z47),\"No race run\")","v":3.6696024879568259E-2}]
[null,"Jackson","Andrea","F",null,null,null,null,3.6724537037037035E-2,null,null,null,null,null,null,null,null,null,null,null,null,null,null,null,{"$f":"COUNT(F48,H48,I48,K48:L48,N48,P48,R48,S48,U48,V48,X48)","v":1},{"$f":"IFERROR(AVERAGE(F48,H48,I48,K48:L48,N48,P48,R48,S48,U48,V48,X48),\"No race run\")","v":3.6724537037037035E-2},{"$f":"IF(COUNT(F48,H48,I48,K48:L48,N48,P48,R48,#REF!,U48)>5,5,COUNT(F48,H48,I48,K48:L48,N48,P48,R48,#REF!,U48))","v":1},{"$f":"IFERROR(IF(Y48>5,AVERAGE(SMALL((F48,H48,I48,K48:L48,N48,P48,R48,S48,U48,V48,X48),{1,2,3,4,5})),Z48),\"No race run\")","v":3.6724537037037035E-2}]
[null,"Rose","Julie","F",8.0393518518518517E-2,{"$f":"(E49*86400)*POWER((6.2138818/13.1094),1.07)/86400","v":3.6166444980348253E-2},null,null,null,null,null,null,null,null,2.2731481481481481E-2,{"$f":"(O49*86400)*POWER((6.2138818/3.9),1.07)/86400","v":3.7418554675731852E-2},null,null,null,null,null,null,null,null,{"$f":"COUNT(F49,H49,I49,K49:L49,N49,P49,R49,S49,U49,V49,X49)","v":2},{"$f":"IFERROR(AVERAGE(F49,H49,I49,K49:L49,N49,P49,R49,S49,U49,V49,X49),\"No race run\")","v":3.6792499828040053E-2},{"$f":"IF(COUNT(F49,H49,I49,K49:L49,N49,P49,R49,#REF!,U49)>5,5,COUNT(F49,H49,I49,K49:L49,N49,P49,R49,#REF!,U49))","v":2},{"$f":"IFERROR(IF(Y49>5,AVERAGE(SMALL((F49,H49,I49,K49:L49,N49,P49,R49,S49,U49,V49,X49),{1,2,3,4,5})),Z49),\"No race run\")","v":3.6792499828040053E-2}]
[null,"Kemp","Gillian","F",null,null,null,null,null,null,null,3.770833333333333E-2,null,null,2.1851851851851848E-2,{"$f":"(O50*86400)*POWER((6.2138818/3.9),1.07)/86400","v":3.5970586164858313E-2},null,null,null,null,null,null,null,null,{"$f":"COUNT(F50,H50,I50,K50:L50,N50,P50,R50,S50,U50,V50,X50)","v":2},{"$f":"IFERROR(AVERAGE(F50,H50,I50,K50:L50,N50,P50,R50,S50,U50,V50,X50),\"No race run\")","v":3.6839459749095818E-2},{"$f":"IF(COUNT(F50,H50,I50,K50:L50,N50,P50,R50,#REF!,U50)>5,5,COUNT(F50,H50,I50,K50:L50,N50,P50,R50,#REF!,U50))","v":2},{"$f":"IFERROR(IF(Y50>5,AVERAGE(SMALL((F50,H50,I50,K50:L50,N50,P50,R50,S50,U50,V50,X50),{1,2,3,4,5})),Z50),\"No race run\")","v":3.6839459749095818E-2}]
[null,"Lopez","Gill","F",null,null,null,null,3.5381944444444445E-2,null,null,null,3.107638888888889E-2,{"$f":"(M51*86400)*POWER((6.2138818/5),1.07)/86400","v":3.9213087634427046E-2},null,null,null,null,null,null,null,null,null,null,{"$f":"COUNT(F51,H51,I51,K51:L51,N51,P51,R51,S51,U51,V51,X51)","v":2},{"$f":"IFERROR(AVERAGE(F51,H51,I51,K51:L51,N51,P51,R51,S51,U51,V51,X51),\"No race run\")","v":3.7297516039435749E-2},{"$f":"IF(COUNT(F51,H51,I51,K51:L51,N51,P51,R51,#REF!,U51)>5,5,COUNT(F51,H51,I51,K51:L51,N51,P51,R51,#REF!,U51))","v":2},{"$f":"IFERROR(IF(Y51>5,AVERAGE(SMALL((F51,H51,I51,K51:L51,N51,P51,R51,S51,U51,V51,X51),{1,2,3,4,5})),Z51),\"No race run\")","v":3.7297516039435749E-2}]
[null,"Mackay","Duncan","M",8.8541666666666671E-2,{"$f":"(E52*86400)*POWER((6.2138818/13.1094),1.07)/86400","v":3.9832033414866706E-2},6.2303240740740735E-2,{"$f":"(G52*86400)*POWER((6.2138818/10),1.07)/86400","v":3.7446310523698872E-2},null,null,null,null,null,null,2.1053240740740744E-2,{"$f":"(O52*86400)*POWER((6.2138818/3.9),1.07)/86400","v":3.465598317472314E-2},null,null,null,null,null,null,null,null,{"$f":"COUNT(F52,H52,I52,K52:L52,N52,P52,R52,S52,U52,V52,X52)","v":3},{"$f":"IFERROR(AVERAGE(F52,H52,I52,K52:L52,N52,P52,R52,S52,U52,V52,X52),\"No race run\")","v":3.7311442371096244E-2},{"$f":"IF(COUNT(F52,H52,I52,K52:L52,N52,P52,R52,#REF!,U52)>5,5,COUNT(F52,H52,I52,K52:L52,N52,P52,R52,#REF!,U52))","v":3},{"$f":"IFERROR(IF(Y52>5,AVERAGE(SMALL((F52,H52,I52,K52:L52,N52,P52,R52,S52,U52,V52,X52),{1,2,3,4,5})),Z52),\"No race run\")","v":3.7311442371096244E-2}]
[null,"Malcolm","Ann","F",null,null,6.267361111111111E-2,{"$f":"(G53*86400)*POWER((6.2138818/10),1.07)/86400","v":3.7668915379124916E-2},3.770833333333333E-2,null,null,null,null,null,null,null,null,null,null,null,null,null,null,null,{"$f":"COUNT(F53,H53,I53,K53:L53,N53,P53,R53,S53,U53,V53,X53)","v":2},{"$f":"IFERROR(AVERAGE(F53,H53,I53,K53:L53,N53,P53,R53,S53,U53,V53,X53),\"No race run\")","v":3.768862435622912E-2},{"$f":"IF(COUNT(F53,H53,I53,K53:L53,N53,P53,R53,#REF!,U53)>5,5,COUNT(F53,H53,I53,K53:L53,N53,P53,R53,#REF!,U53))","v":2},{"$f":"IFERROR(IF(Y53>5,AVERAGE(SMALL((F53,H53,I53,K53:L53,N53,P53,R53,S53,U53,V53,X53),{1,2,3,4,5})),Z53),\"No race run\")","v":3.768862435622912E-2}]
[null,"Cuthbert","Catriona","F",8.5092592592592595E-2,{"$f":"(E54*86400)*POWER((6.2138818/13.1094),1.07)/86400","v":3.8280406492300655E-2},null,null,null,null,null,null,null,null,null,null,null,null,null,null,null,null,null,null,{"$f":"COUNT(F54,H54,I54,K54:L54,N54,P54,R54,S54,U54,V54,X54)","v":1},{"$f":"IFERROR(AVERAGE(F54,H54,I54,K54:L54,N54,P54,R54,S54,U54,V54,X54),\"No race run\")","v":3.8280406492300655E-2},{"$f":"IF(COUNT(F54,H54,I54,K54:L54,N54,P54,R54,#REF!,U54)>5,5,COUNT(F54,H54,I54,K54:L54,N54,P54,R54,#REF!,U54))","v":1},{"$f":"IFERROR(IF(Y54>5,AVERAGE(SMALL((F54,H54,I54,K54:L54,N54,P54,R54,S54,U54,V54,X54),{1,2,3,4,5})),Z54),\"No race run\")","v":3.8280406492300655E-2}]
[null,"Smith","Alison","F",8.6608796296296295E-2,{"$f":"(E55*86400)*POWER((6.2138818/13.1094),1.07)/86400","v":3.8962497522019288E-2},6.322916666666667E-2,{"$f":"(G55*86400)*POWER((6.2138818/10),1.07)/86400","v":3.8002822662263978E-2},3.8553240740740742E-2,1.8368055555555554E-2,{"$f":"(J55*86400)*POWER((10/5),1.07)/86400","v":3.8562508724764064E-2},3.8171296296296293E-2,null,null,2.4988425925925928E-2,{"$f":"(O55*86400)*POWER((6.2138818/3.9),1.07)/86400","v":4.1133737039157368E-2},null,null,null,null,null,null,null,null,{"$f":"COUNT(F55,H55,I55,K55:L55,N55,P55,R55,S55,U55,V55,X55)","v":6},{"$f":"IFERROR(AVERAGE(F55,H55,I55,K55:L55,N55,P55,R55,S55,U55,V55,X55),\"No race run\")","v":3.8897683830873622E-2},{"$f":"IF(COUNT(F55,H55,I55,K55:L55,N55,P55,R55,#REF!,U55)>5,5,COUNT(F55,H55,I55,K55:L55,N55,P55,R55,#REF!,U55))","v":5},{"$f":"IFERROR(IF(Y55>5,AVERAGE(SMALL((F55,H55,I55,K55:L55,N55,P55,R55,S55,U55,V55,X55),{1,2,3,4,5})),Z55),\"No race run\")","v":3.845047318921687E-2}]
[null,"Aird","Andrew","M",null,null,6.8726851851851858E-2,{"$f":"(G56*86400)*POWER((6.2138818/10),1.07)/86400","v":4.1307113484994239E-2},4.0324074074074075E-2,1.8043981481481484E-2,{"$f":"(J56*86400)*POWER((10/5),1.07)/86400","v":3.7882136800193575E-2},null,2.8564814814814817E-2,{"$f":"(M56*86400)*POWER((6.2138818/5),1.07)/86400","v":3.6043910719465902E-2},2.2951388888888886E-2,{"$f":"(O56*86400)*POWER((6.2138818/3.9),1.07)/86400","v":3.7780546803450235E-2},null,null,null,null,null,null,null,null,{"$f":"COUNT(F56,H56,I56,K56:L56,N56,P56,R56,S56,U56,V56,X56)","v":5},{"$f":"IFERROR(AVERAGE(F56,H56,I56,K56:L56,N56,P56,R56,S56,U56,V56,X56),\"No race run\")","v":3.8667556376435611E-2},{"$f":"IF(COUNT(F56,H56,I56,K56:L56,N56,P56,R56,#REF!,U56)>5,5,COUNT(F56,H56,I56,K56:L56,N56,P56,R56,#REF!,U56))","v":5},{"$f":"IFERROR(IF(Y56>5,AVERAGE(SMALL((F56,H56,I56,K56:L56,N56,P56,R56,S56,U56,V56,X56),{1,2,3,4,5})),Z56),\"No race run\")","v":3.8667556376435611E-2}]
[null,"McLean","Susan","F",null,null,null,null,null,1.8356481481481481E-2,{"$f":"(J57*86400)*POWER((10/5),1.07)/86400","v":3.853820972745798E-2},null,3.0972222222222224E-2,{"$f":"(M57*86400)*POWER((6.2138818/5),1.07)/86400","v":3.9081647117216678E-2},2.4212962962962964E-2,{"$f":"(O57*86400)*POWER((6.2138818/3.9),1.07)/86400","v":3.9857238483518853E-2},null,null,null,null,null,null,null,null,{"$f":"COUNT(F57,H57,I57,K57:L57,N57,P57,R57,S57,U57,V57,X57)","v":3},{"$f":"IFERROR(AVERAGE(F57,H57,I57,K57:L57,N57,P57,R57,S57,U57,V57,X57),\"No race run\")","v":3.9159031776064501E-2},{"$f":"IF(COUNT(F57,H57,I57,K57:L57,N57,P57,R57,#REF!,U57)>5,5,COUNT(F57,H57,I57,K57:L57,N57,P57,R57,#REF!,U57))","v":3},{"$f":"IFERROR(IF(Y57>5,AVERAGE(SMALL((F57,H57,I57,K57:L57,N57,P57,R57,S57,U57,V57,X57),{1,2,3,4,5})),Z57),\"No race run\")","v":3.9159031776064501E-2}]
[null,"Smith","Natalie","F",null,null,null,null,3.9293981481481485E-2,null,null,null,null,null,null,null,null,null,null,null,null,null,null,null,{"$f":"COUNT(F58,H58,I58,K58:L58,N58,P58,R58,S58,U58,V58,X58)","v":1},{"$f":"IFERROR(AVERAGE(F58,H58,I58,K58:L58,N58,P58,R58,S58,U58,V58,X58),\"No race run\")","v":3.9293981481481485E-2},{"$f":"IF(COUNT(F58,H58,I58,K58:L58,N58,P58,R58,#REF!,U58)>5,5,COUNT(F58,H58,I58,K58:L58,N58,P58,R58,#REF!,U58))","v":1},{"$f":"IFERROR(IF(Y58>5,AVERAGE(SMALL((F58,H58,I58,K58:L58,N58,P58,R58,S58,U58,V58,X58),{1,2,3,4,5})),Z58),\"No race run\")","v":3.9293981481481485E-2}]
[null,"Houston","Alison ","F",null,null,6.508101851851851E-2,{"$f":"(G59*86400)*POWER((6.2138818/10),1.07)/86400","v":3.9115846939394162E-2},null,null,null,3.923611111111111E-2,3.0636574074074076E-2,{"$f":"(M59*86400)*POWER((6.2138818/5),1.07)/86400","v":3.8658116561761033E-2},2.4548611111111115E-2,{"$f":"(O59*86400)*POWER((6.2138818/3.9),1.07)/86400","v":4.0409752783720609E-2},null,null,null,null,null,null,null,null,{"$f":"COUNT(F59,H59,I59,K59:L59,N59,P59,R59,S59,U59,V59,X59)","v":4},{"$f":"IFERROR(AVERAGE(F59,H59,I59,K59:L59,N59,P59,R59,S59,U59,V59,X59),\"No race run\")","v":3.9354956848996731E-2},{"$f":"IF(COUNT(F59,H59,I59,K59:L59,N59,P59,R59,#REF!,U59)>5,5,COUNT(F59,H59,I59,K59:L59,N59,P59,R59,#REF!,U59))","v":4},{"$f":"IFERROR(IF(Y59>5,AVERAGE(SMALL((F59,H59,I59,K59:L59,N59,P59,R59,S59,U59,V59,X59),{1,2,3,4,5})),Z59),\"No race run\")","v":3.9354956848996731E-2}]
[null,"Lopez","Hannah","F",null,null,null,null,null,null,null,null,3.107638888888889E-2,{"$f":"(M60*86400)*POWER((6.2138818/5),1.07)/86400","v":3.9213087634427046E-2},2.4027777777777776E-2,{"$f":"(O60*86400)*POWER((6.2138818/3.9),1.07)/86400","v":3.9552403007545485E-2},null,null,null,null,null,null,null,null,{"$f":"COUNT(F60,H60,I60,K60:L60,N60,P60,R60,S60,U60,V60,X60)","v":2},{"$f":"IFERROR(AVERAGE(F60,H60,I60,K60:L60,N60,P60,R60,S60,U60,V60,X60),\"No race run\")","v":3.9382745320986262E-2},{"$f":"IF(COUNT(F60,H60,I60,K60:L60,N60,P60,R60,#REF!,U60)>5,5,COUNT(F60,H60,I60,K60:L60,N60,P60,R60,#REF!,U60))","v":2},{"$f":"IFERROR(IF(Y60>5,AVERAGE(SMALL((F60,H60,I60,K60:L60,N60,P60,R60,S60,U60,V60,X60),{1,2,3,4,5})),Z60),\"No race run\")","v":3.9382745320986262E-2}]
[null,"Macintyre","Anne","F",null,null,6.7013888888888887E-2,{"$f":"(G61*86400)*POWER((6.2138818/10),1.07)/86400","v":4.0277566028648806E-2},3.90625E-2,null,null,3.9560185185185184E-2,null,null,2.4363425925925927E-2,{"$f":"(O61*86400)*POWER((6.2138818/3.9),1.07)/86400","v":4.0104917307747227E-2},null,null,null,null,null,null,null,null,{"$f":"COUNT(F61,H61,I61,K61:L61,N61,P61,R61,S61,U61,V61,X61)","v":4},{"$f":"IFERROR(AVERAGE(F61,H61,I61,K61:L61,N61,P61,R61,S61,U61,V61,X61),\"No race run\")","v":3.9751292130395306E-2},{"$f":"IF(COUNT(F61,H61,I61,K61:L61,N61,P61,R61,#REF!,U61)>5,5,COUNT(F61,H61,I61,K61:L61,N61,P61,R61,#REF!,U61))","v":4},{"$f":"IFERROR(IF(Y61>5,AVERAGE(SMALL((F61,H61,I61,K61:L61,N61,P61,R61,S61,U61,V61,X61),{1,2,3,4,5})),Z61),\"No race run\")","v":3.9751292130395306E-2}]
[null,"Mitchell","Karen","F",null,null,6.7025462962962967E-2,{"$f":"(G62*86400)*POWER((6.2138818/10),1.07)/86400","v":4.0284522430380866E-2},3.7893518518518521E-2,null,null,null,null,null,null,null,9.2881944444444434E-2,{"$f":"(Q62*86400)*POWER((6.2138818/13.1094),1.07)/86400","v":4.1784584072458206E-2},null,null,null,null,null,null,{"$f":"COUNT(F62,H62,I62,K62:L62,N62,P62,R62,S62,U62,V62,X62)","v":3},{"$f":"IFERROR(AVERAGE(F62,H62,I62,K62:L62,N62,P62,R62,S62,U62,V62,X62),\"No race run\")","v":3.9987541673785862E-2},{"$f":"IF(COUNT(F62,H62,I62,K62:L62,N62,P62,R62,#REF!,U62)>5,5,COUNT(F62,H62,I62,K62:L62,N62,P62,R62,#REF!,U62))","v":3},{"$f":"IFERROR(IF(Y62>5,AVERAGE(SMALL((F62,H62,I62,K62:L62,N62,P62,R62,S62,U62,V62,X62),{1,2,3,4,5})),Z62),\"No race run\")","v":3.9987541673785862E-2}]
[null,"Rennie","Amanda","F",null,null,null,null,null,null,null,null,null,null,2.4363425925925927E-2,{"$f":"(O63*86400)*POWER((6.2138818/3.9),1.07)/86400","v":4.0104917307747227E-2},null,null,null,null,null,null,null,null,{"$f":"COUNT(F63,H63,I63,K63:L63,N63,P63,R63,S63,U63,V63,X63)","v":1},{"$f":"IFERROR(AVERAGE(F63,H63,I63,K63:L63,N63,P63,R63,S63,U63,V63,X63),\"No race run\")","v":4.0104917307747227E-2},{"$f":"IF(COUNT(F63,H63,I63,K63:L63,N63,P63,R63,#REF!,U63)>5,5,COUNT(F63,H63,I63,K63:L63,N63,P63,R63,#REF!,U63))","v":1},{"$f":"IFERROR(IF(Y63>5,AVERAGE(SMALL((F63,H63,I63,K63:L63,N63,P63,R63,S63,U63,V63,X63),{1,2,3,4,5})),Z63),\"No race run\")","v":4.0104917307747227E-2}]
[null,"Robertson","Alison","F",null,null,null,null,4.0462962962962964E-2,null,null,null,null,null,null,null,null,null,null,null,null,null,null,null,{"$f":"COUNT(F64,H64,I64,K64:L64,N64,P64,R64,S64,U64,V64,X64)","v":1},{"$f":"IFERROR(AVERAGE(F64,H64,I64,K64:L64,N64,P64,R64,S64,U64,V64,X64),\"No race run\")","v":4.0462962962962964E-2},{"$f":"IF(COUNT(F64,H64,I64,K64:L64,N64,P64,R64,#REF!,U64)>5,5,COUNT(F64,H64,I64,K64:L64,N64,P64,R64,#REF!,U64))","v":1},{"$f":"IFERROR(IF(Y64>5,AVERAGE(SMALL((F64,H64,I64,K64:L64,N64,P64,R64,S64,U64,V64,X64),{1,2,3,4,5})),Z64),\"No race run\")","v":4.0462962962962964E-2}]
[null,"Mackay","Lindsey","F",9.22337962962963E-2,{"$f":"(E65*86400)*POWER((6.2138818/13.1094),1.07)/86400","v":4.1493003174257879E-2},6.653935185185185E-2,{"$f":"(G65*86400)*POWER((6.2138818/10),1.07)/86400","v":3.9992353557634197E-2},null,null,null,null,null,null,null,null,null,null,null,null,null,null,null,null,{"$f":"COUNT(F65,H65,I65,K65:L65,N65,P65,R65,S65,U65,V65,X65)","v":2},{"$f":"IFERROR(AVERAGE(F65,H65,I65,K65:L65,N65,P65,R65,S65,U65,V65,X65),\"No race run\")","v":4.0742678365946042E-2},{"$f":"IF(COUNT(F65,H65,I65,K65:L65,N65,P65,R65,#REF!,U65)>5,5,COUNT(F65,H65,I65,K65:L65,N65,P65,R65,#REF!,U65))","v":2},{"$f":"IFERROR(IF(Y65>5,AVERAGE(SMALL((F65,H65,I65,K65:L65,N65,P65,R65,S65,U65,V65,X65),{1,2,3,4,5})),Z65),\"No race run\")","v":4.0742678365946042E-2}]
[null,"Woodrow","Andrew","M",8.8263888888888878E-2,{"$f":"(E66*86400)*POWER((6.2138818/13.1094),1.07)/86400","v":3.9707070172780849E-2},7.1261574074074074E-2,{"$f":"(G66*86400)*POWER((6.2138818/10),1.07)/86400","v":4.2830565464316184E-2},null,2.0509259259259258E-2,{"$f":"(J66*86400)*POWER((10/5),1.07)/86400","v":4.305782322639063E-2},4.4560185185185182E-2,null,null,2.5115740740740741E-2,{"$f":"(O66*86400)*POWER((6.2138818/3.9),1.07)/86400","v":4.1343311428889064E-2},null,null,null,null,null,null,null,null,{"$f":"COUNT(F66,H66,I66,K66:L66,N66,P66,R66,S66,U66,V66,X66)","v":5},{"$f":"IFERROR(AVERAGE(F66,H66,I66,K66:L66,N66,P66,R66,S66,U66,V66,X66),\"No race run\")","v":4.2299791095512379E-2},{"$f":"IF(COUNT(F66,H66,I66,K66:L66,N66,P66,R66,#REF!,U66)>5,5,COUNT(F66,H66,I66,K66:L66,N66,P66,R66,#REF!,U66))","v":5},{"$f":"IFERROR(IF(Y66>5,AVERAGE(SMALL((F66,H66,I66,K66:L66,N66,P66,R66,S66,U66,V66,X66),{1,2,3,4,5})),Z66),\"No race run\")","v":4.2299791095512379E-2}]
[null,"Donnachie","Gordon ","M",0.10956018518518518,{"$f":"(E67*86400)*POWER((6.2138818/13.1094),1.07)/86400","v":4.9287585399363169E-2},null,null,3.8217592592592588E-2,null,null,null,null,null,null,null,null,null,null,null,null,null,null,null,{"$f":"COUNT(F67,H67,I67,K67:L67,N67,P67,R67,S67,U67,V67,X67)","v":2},{"$f":"IFERROR(AVERAGE(F67,H67,I67,K67:L67,N67,P67,R67,S67,U67,V67,X67),\"No race run\")","v":4.3752588995977879E-2},{"$f":"IF(COUNT(F67,H67,I67,K67:L67,N67,P67,R67,#REF!,U67)>5,5,COUNT(F67,H67,I67,K67:L67,N67,P67,R67,#REF!,U67))","v":2},{"$f":"IFERROR(IF(Y67>5,AVERAGE(SMALL((F67,H67,I67,K67:L67,N67,P67,R67,S67,U67,V67,X67),{1,2,3,4,5})),Z67),\"No race run\")","v":4.3752588995977879E-2}]
[null,"Eaton","Sarah","F",0.10100694444444445,{"$f":"(E68*86400)*POWER((6.2138818/13.1094),1.07)/86400","v":4.5439758903469511E-2},7.9224537037037038E-2,{"$f":"(G68*86400)*POWER((6.2138818/10),1.07)/86400","v":4.761656985597601E-2},null,2.0833333333333332E-2,{"$f":"(J68*86400)*POWER((10/5),1.07)/86400","v":4.373819515096114E-2},null,3.2916666666666664E-2,{"$f":"(M68*86400)*POWER((6.2138818/5),1.07)/86400","v":4.1535203438476907E-2},2.5636574074074072E-2,{"$f":"(O68*86400)*POWER((6.2138818/3.9),1.07)/86400","v":4.2200661205064181E-2},null,null,null,null,null,null,null,null,{"$f":"COUNT(F68,H68,I68,K68:L68,N68,P68,R68,S68,U68,V68,X68)","v":5},{"$f":"IFERROR(AVERAGE(F68,H68,I68,K68:L68,N68,P68,R68,S68,U68,V68,X68),\"No race run\")","v":4.4106077710789553E-2},{"$f":"IF(COUNT(F68,H68,I68,K68:L68,N68,P68,R68,#REF!,U68)>5,5,COUNT(F68,H68,I68,K68:L68,N68,P68,R68,#REF!,U68))","v":5},{"$f":"IFERROR(IF(Y68>5,AVERAGE(SMALL((F68,H68,I68,K68:L68,N68,P68,R68,S68,U68,V68,X68),{1,2,3,4,5})),Z68),\"No race run\")","v":4.4106077710789553E-2}]
[null,"Stark","Roger","M",null,null,null,null,null,2.1875000000000002E-2,{"$f":"(J69*86400)*POWER((10/5),1.07)/86400","v":4.59251049085092E-2},4.7222222222222221E-2,3.5381944444444445E-2,{"$f":"(M69*86400)*POWER((6.2138818/5),1.07)/86400","v":4.4645962345788999E-2},null,null,null,null,null,null,null,null,null,null,{"$f":"COUNT(F69,H69,I69,K69:L69,N69,P69,R69,S69,U69,V69,X69)","v":3},{"$f":"IFERROR(AVERAGE(F69,H69,I69,K69:L69,N69,P69,R69,S69,U69,V69,X69),\"No race run\")","v":4.5931096492173473E-2},{"$f":"IF(COUNT(F69,H69,I69,K69:L69,N69,P69,R69,#REF!,U69)>5,5,COUNT(F69,H69,I69,K69:L69,N69,P69,R69,#REF!,U69))","v":3},{"$f":"IFERROR(IF(Y69>5,AVERAGE(SMALL((F69,H69,I69,K69:L69,N69,P69,R69,S69,U69,V69,X69),{1,2,3,4,5})),Z69),\"No race run\")","v":4.5931096492173473E-2}]
[null,"MacCalman","Sandy","M",null,null,null,null,5.0254629629629628E-2,2.1956018518518517E-2,{"$f":"(J70*86400)*POWER((10/5),1.07)/86400","v":4.6095197889651815E-2},null,3.9618055555555552E-2,{"$f":"(M70*86400)*POWER((6.2138818/5),1.07)/86400","v":4.9991210045677373E-2},null,null,null,null,null,null,null,null,null,null,{"$f":"COUNT(F70,H70,I70,K70:L70,N70,P70,R70,S70,U70,V70,X70)","v":3},{"$f":"IFERROR(AVERAGE(F70,H70,I70,K70:L70,N70,P70,R70,S70,U70,V70,X70),\"No race run\")","v":4.8780345854986272E-2},{"$f":"IF(COUNT(F70,H70,I70,K70:L70,N70,P70,R70,#REF!,U70)>5,5,COUNT(F70,H70,I70,K70:L70,N70,P70,R70,#REF!,U70))","v":3},{"$f":"IFERROR(IF(Y70>5,AVERAGE(SMALL((F70,H70,I70,K70:L70,N70,P70,R70,S70,U70,V70,X70),{1,2,3,4,5})),Z70),\"No race run\")","v":4.8780345854986272E-2}]
[null,"Nouillan","Bill","M",0.11039351851851853,{"$f":"(E71*86400)*POWER((6.2138818/13.1094),1.07)/86400","v":4.9662475125620748E-2},8.3888888888888888E-2,{"$f":"(G71*86400)*POWER((6.2138818/10),1.07)/86400","v":5.0419999753997677E-2},null,2.344907407407407E-2,{"$f":"(J71*86400)*POWER((10/5),1.07)/86400","v":4.9229768542137363E-2},4.9039351851851855E-2,3.9687500000000001E-2,{"$f":"(M71*86400)*POWER((6.2138818/5),1.07)/86400","v":5.0078837057150959E-2},2.9155092592592594E-2,{"$f":"(O71*86400)*POWER((6.2138818/3.9),1.07)/86400","v":4.7992535248558316E-2},null,null,null,null,null,null,null,null,{"$f":"COUNT(F71,H71,I71,K71:L71,N71,P71,R71,S71,U71,V71,X71)","v":6},{"$f":"IFERROR(AVERAGE(F71,H71,I71,K71:L71,N71,P71,R71,S71,U71,V71,X71),\"No race run\")","v":4.9403827929886152E-2},{"$f":"IF(COUNT(F71,H71,I71,K71:L71,N71,P71,R71,#REF!,U71)>5,5,COUNT(F71,H71,I71,K71:L71,N71,P71,R71,#REF!,U71))","v":5},{"$f":"IFERROR(IF(Y71>5,AVERAGE(SMALL((F71,H71,I71,K71:L71,N71,P71,R71,S71,U71,V71,X71),{1,2,3,4,5})),Z71),\"No race run\")","v":4.9200593565063851E-2}]
[null,"Laycock","Andy","M",null,null,null,null,null,null,null,null,null,null,null,null,null,null,null,null,null,null,null,null,{"$f":"COUNT(F72,H72,I72,K72:L72,N72,P72,R72,S72,U72,V72,X72)","v":0},{"$f":"IFERROR(AVERAGE(F72,H72,I72,K72:L72,N72,P72,R72,S72,U72,V72,X72),\"No race run\")","v":"No race run"},{"$f":"IF(COUNT(F72,H72,I72,K72:L72,N72,P72,R72,#REF!,U72)>5,5,COUNT(F72,H72,I72,K72:L72,N72,P72,R72,#REF!,U72))","v":0},{"$f":"IFERROR(IF(Y72>5,AVERAGE(SMALL((F72,H72,I72,K72:L72,N72,P72,R72,S72,U72,V72,X72),{1,2,3,4,5})),Z72),\"No race run\")","v":"No race run"}]
[null,"Boyle","Mhairi","F",null,null,null,null,null,null,null,null,null,null,null,null,null,null,null,null,null,null,null,null,{"$f":"COUNT(F73,H73,I73,K73:L73,N73,P73,R73,S73,U73,V73,X73)","v":0},{"$f":"IFERROR(AVERAGE(F73,H73,I73,K73:L73,N73,P73,R73,S73,U73,V73,X73),\"No race run\")","v":"No race run"},{"$f":"IF(COUNT(F73,H73,I73,K73:L73,N73,P73,R73,#REF!,U73)>5,5,COUNT(F73,H73,I73,K73:L73,N73,P73,R73,#REF!,U73))","v":0},{"$f":"IFERROR(IF(Y73>5,AVERAGE(SMALL((F73,H73,I73,K73:L73,N73,P73,R73,S73,U73,V73,X73),{1,2,3,4,5})),Z73),\"No race run\")","v":"No race run"}]
[null,"Porter","Hazel","F",null,null,null,null,null,null,null,null,null,null,null,null,null,null,null,null,null,null,null,null,{"$f":"COUNT(F74,H74,I74,K74:L74,N74,P74,R74,S74,U74,V74,X74)","v":0},{"$f":"IFERROR(AVERAGE(F74,H74,I74,K74:L74,N74,P74,R74,S74,U74,V74,X74),\"No race run\")","v":"No race run"},{"$f":"IF(COUNT(F74,H74,I74,K74:L74,N74,P74,R74,#REF!,U74)>5,5,COUNT(F74,H74,I74,K74:L74,N74,P74,R74,#REF!,U74))","v":0},{"$f":"IFERROR(IF(Y74>5,AVERAGE(SMALL((F74,H74,I74,K74:L74,N74,P74,R74,S74,U74,V74,X74),{1,2,3,4,5})),Z74),\"No race run\")","v":"No race run"}]
[null,"Baughan","Nick","M",null,null,null,null,null,null,null,null,null,null,null,null,null,null,null,null,null,null,null,null,{"$f":"COUNT(F75,H75,I75,K75:L75,N75,P75,R75,S75,U75,V75,X75)","v":0},{"$f":"IFERROR(AVERAGE(F75,H75,I75,K75:L75,N75,P75,R75,S75,U75,V75,X75),\"No race run\")","v":"No race run"},{"$f":"IF(COUNT(F75,H75,I75,K75:L75,N75,P75,R75,#REF!,U75)>5,5,COUNT(F75,H75,I75,K75:L75,N75,P75,R75,#REF!,U75))","v":0},{"$f":"IFERROR(IF(Y75>5,AVERAGE(SMALL((F75,H75,I75,K75:L75,N75,P75,R75,S75,U75,V75,X75),{1,2,3,4,5})),Z75),\"No race run\")","v":"No race run"}]
[null,"Truesdale","Iain","M",null,null,null,null,null,null,null,null,null,null,null,null,null,null,null,null,null,null,null,null,{"$f":"COUNT(F76,H76,I76,K76:L76,N76,P76,R76,S76,U76,V76,X76)","v":0},{"$f":"IFERROR(AVERAGE(F76,H76,I76,K76:L76,N76,P76,R76,S76,U76,V76,X76),\"No race run\")","v":"No race run"},{"$f":"IF(COUNT(F76,H76,I76,K76:L76,N76,P76,R76,#REF!,U76)>5,5,COUNT(F76,H76,I76,K76:L76,N76,P76,R76,#REF!,U76))","v":0},{"$f":"IFERROR(IF(Y76>5,AVERAGE(SMALL((F76,H76,I76,K76:L76,N76,P76,R76,S76,U76,V76,X76),{1,2,3,4,5})),Z76),\"No race run\")","v":"No race run"}]
[null,"Boyle","John","M",null,null,null,null,null,null,null,null,null,null,null,null,null,null,null,null,null,null,null,null,{"$f":"COUNT(F77,H77,I77,K77:L77,N77,P77,R77,S77,U77,V77,X77)","v":0},{"$f":"IFERROR(AVERAGE(F77,H77,I77,K77:L77,N77,P77,R77,S77,U77,V77,X77),\"No race run\")","v":"No race run"},{"$f":"IF(COUNT(F77,H77,I77,K77:L77,N77,P77,R77,#REF!,U77)>5,5,COUNT(F77,H77,I77,K77:L77,N77,P77,R77,#REF!,U77))","v":0},{"$f":"IFERROR(IF(Y77>5,AVERAGE(SMALL((F77,H77,I77,K77:L77,N77,P77,R77,S77,U77,V77,X77),{1,2,3,4,5})),Z77),\"No race run\")","v":"No race run"}]
[null,"Hookham","Peter","M",null,null,null,null,null,null,null,null,null,null,null,null,null,null,null,null,null,null,null,null,{"$f":"COUNT(F78,H78,I78,K78:L78,N78,P78,R78,S78,U78,V78,X78)","v":0},{"$f":"IFERROR(AVERAGE(F78,H78,I78,K78:L78,N78,P78,R78,S78,U78,V78,X78),\"No race run\")","v":"No race run"},{"$f":"IF(COUNT(F78,H78,I78,K78:L78,N78,P78,R78,#REF!,U78)>5,5,COUNT(F78,H78,I78,K78:L78,N78,P78,R78,#REF!,U78))","v":0},{"$f":"IFERROR(IF(Y78>5,AVERAGE(SMALL((F78,H78,I78,K78:L78,N78,P78,R78,S78,U78,V78,X78),{1,2,3,4,5})),Z78),\"No race run\")","v":"No race run"}]
[null,"Palmer","Linda","F",null,null,null,null,null,null,null,null,null,null,null,null,null,null,null,null,null,null,null,null,{"$f":"COUNT(F79,H79,I79,K79:L79,N79,P79,R79,S79,U79,V79,X79)","v":0},{"$f":"IFERROR(AVERAGE(F79,H79,I79,K79:L79,N79,P79,R79,S79,U79,V79,X79),\"No race run\")","v":"No race run"},{"$f":"IF(COUNT(F79,H79,I79,K79:L79,N79,P79,R79,#REF!,U79)>5,5,COUNT(F79,H79,I79,K79:L79,N79,P79,R79,#REF!,U79))","v":0},{"$f":"IFERROR(IF(Y79>5,AVERAGE(SMALL((F79,H79,I79,K79:L79,N79,P79,R79,S79,U79,V79,X79),{1,2,3,4,5})),Z79),\"No race run\")","v":"No race run"}]
[null,"Tweddle","Scott","M",null,null,null,null,null,null,null,null,null,null,null,null,null,null,null,null,null,null,null,null,{"$f":"COUNT(F80,H80,I80,K80:L80,N80,P80,R80,S80,U80,V80,X80)","v":0},{"$f":"IFERROR(AVERAGE(F80,H80,I80,K80:L80,N80,P80,R80,S80,U80,V80,X80),\"No race run\")","v":"No race run"},{"$f":"IF(COUNT(F80,H80,I80,K80:L80,N80,P80,R80,#REF!,U80)>5,5,COUNT(F80,H80,I80,K80:L80,N80,P80,R80,#REF!,U80))","v":0},{"$f":"IFERROR(IF(Y80>5,AVERAGE(SMALL((F80,H80,I80,K80:L80,N80,P80,R80,S80,U80,V80,X80),{1,2,3,4,5})),Z80),\"No race run\")","v":"No race run"}]
[null,"Hunter","Finlay","M",null,null,null,null,null,null,null,null,null,null,null,null,null,null,null,null,null,null,null,null,{"$f":"COUNT(F81,H81,I81,K81:L81,N81,P81,R81,S81,U81,V81,X81)","v":0},{"$f":"IFERROR(AVERAGE(F81,H81,I81,K81:L81,N81,P81,R81,S81,U81,V81,X81),\"No race run\")","v":"No race run"},{"$f":"IF(COUNT(F81,H81,I81,K81:L81,N81,P81,R81,#REF!,U81)>5,5,COUNT(F81,H81,I81,K81:L81,N81,P81,R81,#REF!,U81))","v":0},{"$f":"IFERROR(IF(Y81>5,AVERAGE(SMALL((F81,H81,I81,K81:L81,N81,P81,R81,S81,U81,V81,X81),{1,2,3,4,5})),Z81),\"No race run\")","v":"No race run"}]
[null,"Aitken","Kerry","F",null,null,null,null,null,null,null,null,null,null,null,null,null,null,null,null,null,null,null,null,{"$f":"COUNT(F82,H82,I82,K82:L82,N82,P82,R82,S82,U82,V82,X82)","v":0},{"$f":"IFERROR(AVERAGE(F82,H82,I82,K82:L82,N82,P82,R82,S82,U82,V82,X82),\"No race run\")","v":"No race run"},{"$f":"IF(COUNT(F82,H82,I82,K82:L82,N82,P82,R82,#REF!,U82)>5,5,COUNT(F82,H82,I82,K82:L82,N82,P82,R82,#REF!,U82))","v":0},{"$f":"IFERROR(IF(Y82>5,AVERAGE(SMALL((F82,H82,I82,K82:L82,N82,P82,R82,S82,U82,V82,X82),{1,2,3,4,5})),Z82),\"No race run\")","v":"No race run"}]
[null,"Kemp","Fiona","F",null,null,null,null,null,null,null,null,null,null,null,null,null,null,null,null,null,null,null,null,{"$f":"COUNT(F83,H83,I83,K83:L83,N83,P83,R83,S83,U83,V83,X83)","v":0},{"$f":"IFERROR(AVERAGE(F83,H83,I83,K83:L83,N83,P83,R83,S83,U83,V83,X83),\"No race run\")","v":"No race run"},{"$f":"IF(COUNT(F83,H83,I83,K83:L83,N83,P83,R83,#REF!,U83)>5,5,COUNT(F83,H83,I83,K83:L83,N83,P83,R83,#REF!,U83))","v":0},{"$f":"IFERROR(IF(Y83>5,AVERAGE(SMALL((F83,H83,I83,K83:L83,N83,P83,R83,S83,U83,V83,X83),{1,2,3,4,5})),Z83),\"No race run\")","v":"No race run"}]
[null,"McCulloch","Angus","M",null,null,null,null,null,null,null,null,null,null,null,null,null,null,null,null,null,null,null,null,{"$f":"COUNT(F84,H84,I84,K84:L84,N84,P84,R84,S84,U84,V84,X84)","v":0},{"$f":"IFERROR(AVERAGE(F84,H84,I84,K84:L84,N84,P84,R84,S84,U84,V84,X84),\"No race run\")","v":"No race run"},{"$f":"IF(COUNT(F84,H84,I84,K84:L84,N84,P84,R84,#REF!,U84)>5,5,COUNT(F84,H84,I84,K84:L84,N84,P84,R84,#REF!,U84))","v":0},{"$f":"IFERROR(IF(Y84>5,AVERAGE(SMALL((F84,H84,I84,K84:L84,N84,P84,R84,S84,U84,V84,X84),{1,2,3,4,5})),Z84),\"No race run\")","v":"No race run"}]
[null,"Cuthbert","Keith","M",null,null,null,null,null,null,null,null,null,null,null,null,null,null,null,null,null,null,null,null,{"$f":"COUNT(F85,H85,I85,K85:L85,N85,P85,R85,S85,U85,V85,X85)","v":0},{"$f":"IFERROR(AVERAGE(F85,H85,I85,K85:L85,N85,P85,R85,S85,U85,V85,X85),\"No race run\")","v":"No race run"},{"$f":"IF(COUNT(F85,H85,I85,K85:L85,N85,P85,R85,#REF!,U85)>5,5,COUNT(F85,H85,I85,K85:L85,N85,P85,R85,#REF!,U85))","v":0},{"$f":"IFERROR(IF(Y85>5,AVERAGE(SMALL((F85,H85,I85,K85:L85,N85,P85,R85,S85,U85,V85,X85),{1,2,3,4,5})),Z85),\"No race run\")","v":"No race run"}]
[null,"Parsons","Vicky","F",null,null,null,null,null,null,null,null,null,null,null,null,null,null,null,null,null,null,null,null,{"$f":"COUNT(F86,H86,I86,K86:L86,N86,P86,R86,S86,U86,V86,X86)","v":0},{"$f":"IFERROR(AVERAGE(F86,H86,I86,K86:L86,N86,P86,R86,S86,U86,V86,X86),\"No race run\")","v":"No race run"},{"$f":"IF(COUNT(F86,H86,I86,K86:L86,N86,P86,R86,#REF!,U86)>5,5,COUNT(F86,H86,I86,K86:L86,N86,P86,R86,#REF!,U86))","v":0},{"$f":"IFERROR(IF(Y86>5,AVERAGE(SMALL((F86,H86,I86,K86:L86,N86,P86,R86,S86,U86,V86,X86),{1,2,3,4,5})),Z86),\"No race run\")","v":"No race run"}]
[null,"Cuthbert","Catriona","F",null,null,null,null,null,null,null,null,null,null,null,null,null,null,null,null,null,null,null,null,{"$f":"COUNT(F87,H87,I87,K87:L87,N87,P87,R87,S87,U87,V87,X87)","v":0},{"$f":"IFERROR(AVERAGE(F87,H87,I87,K87:L87,N87,P87,R87,S87,U87,V87,X87),\"No race run\")","v":"No race run"},{"$f":"IF(COUNT(F87,H87,I87,K87:L87,N87,P87,R87,#REF!,U87)>5,5,COUNT(F87,H87,I87,K87:L87,N87,P87,R87,#REF!,U87))","v":0},{"$f":"IFERROR(IF(Y87>5,AVERAGE(SMALL((F87,H87,I87,K87:L87,N87,P87,R87,S87,U87,V87,X87),{1,2,3,4,5})),Z87),\"No race run\")","v":"No race run"}]
[null,"Robertson","Neil","M",null,null,null,null,null,null,null,null,null,null,null,null,null,null,null,null,null,null,null,null,{"$f":"COUNT(F88,H88,I88,K88:L88,N88,P88,R88,S88,U88,V88,X88)","v":0},{"$f":"IFERROR(AVERAGE(F88,H88,I88,K88:L88,N88,P88,R88,S88,U88,V88,X88),\"No race run\")","v":"No race run"},{"$f":"IF(COUNT(F88,H88,I88,K88:L88,N88,P88,R88,#REF!,U88)>5,5,COUNT(F88,H88,I88,K88:L88,N88,P88,R88,#REF!,U88))","v":0},{"$f":"IFERROR(IF(Y88>5,AVERAGE(SMALL((F88,H88,I88,K88:L88,N88,P88,R88,S88,U88,V88,X88),{1,2,3,4,5})),Z88),\"No race run\")","v":"No race run"}]
[null,"Coutts","Pippa","F",null,null,null,null,null,null,null,null,null,null,null,null,null,null,null,null,null,null,null,null,{"$f":"COUNT(F89,H89,I89,K89:L89,N89,P89,R89,S89,U89,V89,X89)","v":0},{"$f":"IFERROR(AVERAGE(F89,H89,I89,K89:L89,N89,P89,R89,S89,U89,V89,X89),\"No race run\")","v":"No race run"},{"$f":"IF(COUNT(F89,H89,I89,K89:L89,N89,P89,R89,#REF!,U89)>5,5,COUNT(F89,H89,I89,K89:L89,N89,P89,R89,#REF!,U89))","v":0},{"$f":"IFERROR(IF(Y89>5,AVERAGE(SMALL((F89,H89,I89,K89:L89,N89,P89,R89,S89,U89,V89,X89),{1,2,3,4,5})),Z89),\"No race run\")","v":"No race run"}]
[null,"Hunter","Lynn","F",null,null,null,null,null,null,null,null,null,null,null,null,null,null,null,null,null,null,null,null,{"$f":"COUNT(F90,H90,I90,K90:L90,N90,P90,R90,S90,U90,V90,X90)","v":0},{"$f":"IFERROR(AVERAGE(F90,H90,I90,K90:L90,N90,P90,R90,S90,U90,V90,X90),\"No race run\")","v":"No race run"},{"$f":"IF(COUNT(F90,H90,I90,K90:L90,N90,P90,R90,#REF!,U90)>5,5,COUNT(F90,H90,I90,K90:L90,N90,P90,R90,#REF!,U90))","v":0},{"$f":"IFERROR(IF(Y90>5,AVERAGE(SMALL((F90,H90,I90,K90:L90,N90,P90,R90,S90,U90,V90,X90),{1,2,3,4,5})),Z90),\"No race run\")","v":"No race run"}]
[null,"Smith","Norman","M",null,null,null,null,null,null,null,null,null,null,null,null,null,null,null,null,null,null,null,null,{"$f":"COUNT(F91,H91,I91,K91:L91,N91,P91,R91,S91,U91,V91,X91)","v":0},{"$f":"IFERROR(AVERAGE(F91,H91,I91,K91:L91,N91,P91,R91,S91,U91,V91,X91),\"No race run\")","v":"No race run"},{"$f":"IF(COUNT(F91,H91,I91,K91:L91,N91,P91,R91,#REF!,U91)>5,5,COUNT(F91,H91,I91,K91:L91,N91,P91,R91,#REF!,U91))","v":0},{"$f":"IFERROR(IF(Y91>5,AVERAGE(SMALL((F91,H91,I91,K91:L91,N91,P91,R91,S91,U91,V91,X91),{1,2,3,4,5})),Z91),\"No race run\")","v":"No race run"}]
[null,"Hill","Lisa","F",null,null,null,null,null,null,null,null,null,null,null,null,null,null,null,null,null,null,null,null,{"$f":"COUNT(F92,H92,I92,K92:L92,N92,P92,R92,S92,U92,V92,X92)","v":0},{"$f":"IFERROR(AVERAGE(F92,H92,I92,K92:L92,N92,P92,R92,S92,U92,V92,X92),\"No race run\")","v":"No race run"},{"$f":"IF(COUNT(F92,H92,I92,K92:L92,N92,P92,R92,#REF!,U92)>5,5,COUNT(F92,H92,I92,K92:L92,N92,P92,R92,#REF!,U92))","v":0},{"$f":"IFERROR(IF(Y92>5,AVERAGE(SMALL((F92,H92,I92,K92:L92,N92,P92,R92,S92,U92,V92,X92),{1,2,3,4,5})),Z92),\"No race run\")","v":"No race run"}]
[null,"Logan","Keith","M",null,null,null,null,null,null,null,null,null,null,null,null,null,null,null,null,null,null,null,null,{"$f":"COUNT(F93,H93,I93,K93:L93,N93,P93,R93,S93,U93,V93,X93)","v":0},{"$f":"IFERROR(AVERAGE(F93,H93,I93,K93:L93,N93,P93,R93,S93,U93,V93,X93),\"No race run\")","v":"No race run"},{"$f":"IF(COUNT(F93,H93,I93,K93:L93,N93,P93,R93,#REF!,U93)>5,5,COUNT(F93,H93,I93,K93:L93,N93,P93,R93,#REF!,U93))","v":0},{"$f":"IFERROR(IF(Y93>5,AVERAGE(SMALL((F93,H93,I93,K93:L93,N93,P93,R93,S93,U93,V93,X93),{1,2,3,4,5})),Z93),\"No race run\")","v":"No race run"}]